Workbook
Name \: #REF!
Name \: #REF!
Name \: #REF!
Name \: #REF!
Name \AUTOEXEC: #REF!
Name \AUTOEXEC: #REF!
Name \AUTOEXEC: #REF!
Name \k: #REF!
Name \k: #REF!
Name \m: #REF!
Name \n: #REF!
Name \n11: #REF!
Name \s: #REF!
Name \z: #REF!
Name ________________________a2: #REF!
Name ________________________a2: #REF!
Name _______________________a2: #REF!
Name _____________________a2: #REF!
Name ____________________a2: #REF!
Name ___________________a2: #REF!
Name __________________a2: #REF!
Name _________________a2: #REF!
Name ________________a2: #REF!
Name _______________a2: #REF!
Name ______________a2: #REF!
Name _____________a2: #REF!
Name ____________a2: #REF!
Name ___________a2: #REF!
Name __________a2: #REF!
Name __________a2: #REF!
Name _________a2: #REF!
Name _________a2: #REF!
Name ________a2: #REF!
Name ________a2: #REF!
Name _______a2: #REF!
Name _______a2: #REF!
Name _______A65560: [1]График!#REF!
Name _______A65560: [1]График!#REF!
Name _______E65560: [1]График!#REF!
Name ______a2: #REF!
Name ______a2: #REF!
Name ______a2: #REF!
Name ______A65560: [1]График!#REF!
Name ______A65560: [1]График!#REF!
Name ______A65560: [1]График!#REF!
Name ______E65560: [1]График!#REF!
Name ______xlnm.Primt_Area_3: #REF!
Name ______xlnm.Primt_Area_3: #REF!
Name ______xlnm.Primt_Area_3: #REF!
Name ______xlnm.Print_Area_1: #REF!
Name ______xlnm.Print_Area_1: #REF!
Name ______xlnm.Print_Area_2: #REF!
Name ______xlnm.Print_Area_2: #REF!
Name ______xlnm.Print_Area_3: #REF!
Name ______xlnm.Print_Area_4: #REF!
Name ______xlnm.Print_Area_5: #REF!
Name ______xlnm.Print_Area_6: #REF!
Name _____a2: #REF!
Name _____A65560: [1]График!#REF!
Name _____E65560: [1]График!#REF!

Sheet График работ
A1: Календарный план на разработку концепции и проектной документации по объекту по объекту: '«Благоустройство туристической деревни поляна Азау и прилегающей территории»
A3: № п/п | B3: Наименование работ | C3: Сроки выполнения работ | F3: 2023 | M3: 2024
C5: Дата начала | D5: Дата окончания | E5: Длительность (кал. дней) | F5: июнь | G5: июль | H5: август | I5: сентябрь | J5: октябрь | K5: ноябрь | L5: декабрь | M5: январь | N5: февраль | O5: март | P5: апрель | Q5: май | R5: июнь | S5: июль | T5: август | U5: сентябрь | V5: октябрь | W5: ноябрь | X5: декабрь
A6: 1 | B6: 2 | C6: 3 | D6: 4 | E6: 5 | F6: 6 | G6: 7 | H6: 8 | I6: 9 | J6: 10 | K6: 11 | L6: 12 | M6: 1 | N6: 2 | O6: 3 | P6: 4 | Q6: 5 | R6: 6 | S6: 7 | T6: 8 | U6: 9 | V6: 10 | W6: 11 | X6: 12
A7: 1 | B7: =B31 -> Подготовка эскизных вариантов общих композиционных, планировочных, архитектурных решений | C7: Х | D7: Х+14 | E7: =E31 -> 14
A8: 2 | B8: =B32 -> Разработка концепции «Благоустройство туристической деревни Поляна Азау и прилегающей территории» | C8: Х | D8: Х+43 | E8: =E32 -> 44
A9: 3 | B9: =B33 -> Инженерные изыскания
A10: 3.1 | B10: =B34 -> инженерно-геодезические изыскания | C10: Х | D10: Х+120 | E10: =E34 -> 120
A11: 3.2 | B11: =B35 -> инженерно-гидрометеорологические изыскания | C11: Х | D11: Х+120 | E11: =E35 -> 120
A12: 3.3 | B12: =B36 -> инженерно-экологические изыскания | C12: Х | D12: Х+120 | E12: =E36 -> 120
A13: 3.4 | B13: =B37 -> инженерно-геологические изыскания | C13: Х | D13: Х+120 | E13: =E37 -> 120
A14: 4 | B14: =B38 -> Проектные работы, в том числе:
A15: 4.1 | B15: =B39 -> - разработка основных технических решений | C15: Х+10 | D15: Х+110 | E15: =E39 -> 120
A16: 4.2 | B16: =B40 -> - разработка проектной и сметной документации | C16: Х+10 | D16: Х+166 | E16: =E40 -> 176
A17: 5 | B17: =B41 -> Экологическая экспертиза, в том числе общественные слушания | C17: Х+62 | D17: Х+131 | E17: =E41 -> 69
A18: 6 | B18: =B42 -> Государственная экспертиза | C18: Х+62 | D18: Х+131 | E18: =E42 -> 69
A23: КАЛЕНДАРНЫЙ ПЛАН
A24: на разработку концепции и проектной документации по объекту по объекту:
A25: «Благоустройство туристической деревни Поляна Азау и прилегающей территории»
A26: № п/п | B26: Наименование работ | C26: Сроки выполнения работ
C28: Дата начала | D28: Дата окончания
A30: 1 | B30: 2 | C30: 3 | D30: 4
A31: 1 | B31: Подготовка эскизных вариантов общих композиционных, планировочных, архитектурных решений | C31: 45078 | D31: 45092 | E31: =D31-C31 -> 14
A32: 2 | B32: Разработка концепции «Благоустройство туристической деревни Поляна Азау и прилегающей территории» | C32: 45078 | D32: 45122 | E32: =D32-C32 -> 44
A33: 3 | B33: Инженерные изыскания
A34: 3.1 | B34: инженерно-геодезические изыскания | C34: 45078 | D34: 45198 | E34: =D34-C34 -> 120
A35: 3.2 | B35: инженерно-гидрометеорологические изыскания | C35: 45078 | D35: 45198 | E35: =D35-C35 -> 120
A36: 3.3 | B36: инженерно-экологические изыскания | C36: 45078 | D36: 45198 | E36: =D36-C36 -> 120
A37: 3.4 | B37: инженерно-геологические изыскания | C37: 45078 | D37: 45198 | E37: =D37-C37 -> 120
A38: 4 | B38: Проектные работы, в том числе:
A39: 4.1 | B39: - разработка основных технических решений | C39: 45078 | D39: 45198 | E39: =D39-C39 -> 120
A40: 4.2 | B40: - разработка проектной и сметной документации | C40: 45078 | D40: 45254 | E40: =D40-C40 -> 176
A41: 5 | B41: Экологическая экспертиза, в том числе общественные слушания | C41: 45278 | D41: 45347 | E41: =D41-C41 -> 69
A42: 6 | B42: Государственная экспертиза | C42: 45278 | D42: 45347 | E42: =D42-C42 -> 69

Sheet Пояснительная (ПИР+СМР)
A1: ПОЯСНИТЕЛЬНАЯ ЗАПИСКА
A2: К РАСЧЕТУ НАЧАЛЬНОЙ МАКСИМАЛЬНОЙ ЦЕНЫ ДОГОВОРА
A3: Кампус ВТРК «Мамисон»
A4: Начальная максимальная цена договора (далее - НМЦД) определена в соответствии с требованием Федерального Закона от 18.07.2011 N 223-ФЗ "О закупках товаров, работ, услуг отдельными видами юридических лиц" , Положением о закупке товаров, работ, услуг акционерного общества "КАВКАЗ.РФ", введенным в действие приказом АО "КАВКАЗ.РФ" №Пр-24-008 от 16.01.2024, Порядком определения начальной (максимальной) цены контракта, предметом которого одновременно являются подготовка проектной документации и (или) выполнение инженерных изысканий, выполнение работ по строительству, реконструкции и (или) капитальному ремонту объекта капитального строительства, включенного в перечни объектов капитального строительства, утвержденным приказом Министерства строительства и жилищно-коммунального хозяйства Российской Федерации от 30 марта 2020 г. N 175/пр (далее- Порядок определения НМЦК № 175/пр).
A5: Цена работ учитывает все затраты Подрядчика, включая стоимость приобретения материалов и оборудования поставки Подрядчика, стоимость строительно-монтажных и прочих затрат (разбивку осей сооружений, пусконаладку, затраты на проезд рабочих), накладных расходов, сметной прибыли, затрат по оплате налога на добавленную стоимость.
A6: Метод расчета - проектно-сметный
A7: Описание метода расчета стоимости изыскательских работ
A8: Для определения цены изыскательских работ принят проектно-сметный метод с использованием в расчетах нормативных документов, включенных в Федеральный реестр сметных нормативов, подлежащих применению при определении сметной стоимости объектов капитального строительства, строительство которых финансируется с привлечением средств федерального бюджета: справочников базовых цен на инженерные изыскания в строительстве и Методического пособия по определению стоимости инженерных изысканий для строительства.
A9: В расчете приняты предполагаемые виды и объемы изыскательских работ в соответствии с заданием на проектирование.
A10: Индекс пересчета в текущие цены на 2 квартал 2024 г. принят согласно Письму Минстроя России от 27.04.2024г. №24796-АЛ/09.
A11: Прогнозные индексы инфляции для пересчета из уровня цен на дату определения НМЦК в уровень цен соответствующего периода реализации проекта определены согласно Письма Минэкономразвития России от 28 сентября 2023 г. N 35312-ПК/Д03и “О применении показателей прогноза социально-экономического развития Российской Федерации в целях ценообразования на продукцию, поставляемую по государственному оборонному заказу”.
A12: Непредвиденные для изысканий учтены в расчетах в размере 10% на основании п. 3.7.6 в) Методического пособия по определению стоимости инженерных изысканий для строительства, утвержденных письмом Госстроя России от 31.03.2004 № НЗ-2078/10.
... A26: Итоговая начальная максимальная цена проектно-изыскательских работ составляет:
B28: ='НМЦ (ПИР+СМР)'!E26 -> #REF! | C28: рублей с учетом НДС
A30: Разработал:
A31: Главный эксперт направления сметного регулирования Управления проектов Департамента развития инфраструктуры | C31: Татаринов А.Ю.
A33: Проверил:
A34: Заместитель руководителя управления направления сметного регулирования Управления проектов Департамента развития инфраструктуры | C34: Татаринова Е.А.
A36: Согласовал:
A37: Директор Департамента развития инфраструктуры | C37: Богуш Б.Б.

Sheet Протокол (ПИР+СМР)
A1: Протокол
A2: начальной (максимальной) цены контракта
A3: Объект закупки | C3: ='Пояснительная (ПИР+СМР)'!A3 -> Кампус ВТРК «Мамисон»
A5: Начальная (максимальная ) цена контракта составляет | G5: ='НМЦ (ПИР+СМР)'!E26 -> #REF!
A6: =CONCATENATE("(",[33]!СуммаПрописью(G5),")") -> #VALUE!
A7: Начальная (максимальная ) цена контракта включает в себя расходы:
A8: 1. | B8: Инженерные изыскания;
A9: 2. | B9: Проектная документация;
A10: 3. | B10: Создание геодезической разбивочной основы;
A11: 4. | B11: Затраты на оплату труда рабочих-строителей и рабочих, обслуживающих строительные машины и механизмы;
A12: 5. | B12: Затраты на эксплуатацию машин и механизмов;
A13: 6. | B13: Затраты на приобретение материалов, изделий и конструкций;
A14: 7. | B14: Затраты на приобретение оборудования;
A15: 8. | B15: Накладные расходы;
A16: 9. | B16: Сметную прибыль;
A17: 10. | B17: Затраты на строительство временных зданий и сооружений (ВЗИС) с учетом возврата от разборки ВЗИС в размере 15 % от суммы затрат на их возведение;
A18: 11. | B18: Затраты на удорожание работ в зимнее время;
A19: 12. | B19: Пусконаладочные работы (вхолостую);
... A25: 18. | B25: Налог на добавленную стоимость в размере 22%;
A27: Приложение:
A28: Расчет начальной (максимальной) цены контракта.
A31: Разработал:
A32: Главный эксперт направления сметного регулирования Управления проектов Департамента развития инфраструктуры | K32: Татаринов А.Ю.
A34: Проверил:
A35: Заместитель руководителя управления направления сметного регулирования Управления проектов Департамента развития инфраструктуры | K35: Татаринова Е.А.
A37: Согласовал:
A38: Директор Департамента развития инфраструктуры | K38: Богуш Б.Б.

Sheet Пояснительная
A1: ПОЯСНИТЕЛЬНАЯ ЗАПИСКА
A2: к расчету начальной максимальной цены договора
A3: на выполнение проектно-изыскательских работ по объекту:
A4: «Всесезонный туристско-рекреационный комплекс «Мамисон», Республика Северная Осетия-Алания. Кампус»
A5: Начальная максимальная цена договора (далее - НМЦД) определена в соответствии с Приказом Минстроя России от 23 декабря 2019 г. № 841/пр «Об утверждении Порядка определения начальной (максимальной) цены контракта, цены контракта, заключаемого с единственным поставщиком (подрядчиком, исполнителем), начальной цены единицы товара, работы, услуги при осуществлении закупок в сфере градостроительной деятельности (за исключением территориального планирования); требованием Положения о закупке товаров, работ, услуг акционерного общества "КАВКАЗ.РФ", утвержденного Приказом акционерного общества "КАВКАЗ.РФ" от 27.01.2026 № Пр-26-18.
A6: Метод расчета - проектно-сметный
A7: Описание метода расчета стоимости изыскательских работ
A8: Для определения цены изыскательских работ принят проектно-сметный метод с использованием в расчетах нормативных документов, включенных в Федеральный реестр сметных нормативов, подлежащих применению при определении сметной стоимости объектов капитального строительства, строительство которых финансируется с привлечением средств федерального бюджета: справочников базовых цен на инженерные изыскания в строительстве, нормативных затрат на работы по инженерным изысканиям, Методического пособия по определению стоимости инженерных изысканий для строительства, введенного в действие письмом Госстроя России от 31.03.2004 № НЗ-2078/10, Методики определения стоимости работ по инженерным изысканиям, утвержденной приказом Минстрой РФ от 09.01.2024 № 1/пр.
A9: В расчете приняты предполагаемые виды и объемы изыскательских работ в соответствии с заданием на проектирование.
A10: Индекс пересчета в текущие цены на II квартал 2026 года принят согласно письму Минстроя России от 08.04.2026 №20212-ИФ/09;
A11: Прогнозный индекс инфляции для пересчета из уровня цен на дату определения НМЦК в уровень цен соответствующего периода реализации проекта определен согласно Письму Минэкономразвития России от 30.09.2025 № 37099-ПК/Д03и "О применении показателей прогноза социально-экономического развития Российской Федерации в целях ценообразования на продукцию, поставляемую по государственному оборонному заказу".
A12: Описание метода расчета стоимости проектных работ
... A21: Итоговая начальная максимальная цена проектно-изыскательских работ составляет:
B23: =НМЦ!$E$20 -> 21594821 | C23: рублей с учетом НДС
A25: Разработал:
A26: Начальник отдела ценообразования управления проектов департамента развития инфраструктуры | C26: А.Ю. Татаринов
A28: Проверил:
A29: Заместитель директора департамента по ценообразованию и сметному регулированию Департамента развития инфраструктуры | C29: Е.А. Татаринова
A31: Согласовал:
A32: Директор Департамента развития инфраструктуры | C32: И.В. Евдокимов

Sheet Протокол
A1: Протокол
A2: начальной (максимальной) цены контракта
A3: на выполнение проектно-изыскательских работ
A5: Объект закупки: | C5: =Пояснительная!A4 -> «Всесезонный туристско-рекреационный комплекс «Мамисон», Республика Северная Осетия-Алания. Кампус»
A7: Начальная (максимальная ) цена контракта составляет | G7: =НМЦ!$E$20 -> 21594821
A8: =CONCATENATE("(",[33]!СуммаПрописью(G7),")") -> (Двадцать один миллион пятьсот девяносто четыре тысячи восемьсот двадцать рублей 90 копеек)
A9: Начальная (максимальная ) цена контракта включает в себя расходы:
A10: - затраты на инженерные изыскания:
A11: инженерно-геодезические изыскания;
A12: инженерно-геологические изыскания ;
A13: инженерно-геофизические исследования;
A14: инженерно-гидрометеорологические изыскания;
A15: оценка селевой и лавинной опасностей;
A16: инженерно-экологические изыскания;
A17: археологические исследования;
A18: обследование на наличие взрыво-опасных предметов;
A19: дендрологическое обследование лесных насаждений, в том числе на наличие растений и деревьев, занесенных в Красную книгу;
A20: - затраты на проектные работы стадии "Проектная документация";
... A33: Разработал:
A34: =Пояснительная!A26 -> Начальник отдела ценообразования управления проектов департамента развития инфраструктуры | I34: =Пояснительная!C26 -> А.Ю. Татаринов
A36: Проверил:
A37: =Пояснительная!A29 -> Заместитель директора департамента по ценообразованию и сметному регулированию Департамента развития инфраструктуры | I37: =Пояснительная!C29 -> Е.А. Татаринова
A39: Согласовал:
A40: =Пояснительная!A32 -> Директор Департамента развития инфраструктуры | I40: =Пояснительная!C32 -> И.В. Евдокимов

Sheet НМЦ (ПИР+СМР)
A1: Расчет начальной максимальной цены договора
A2: по объекту
A3: ='Пояснительная (ПИР+СМР)'!A3 -> Кампус ВТРК «Мамисон»
A5: Продолжительность работ в соответствие с Графиком | C5: =ROUNDUP((C7-C6)/30.5,1) -> #REF! | D5: месяцев
A6: Начало работ - | C6: =#REF! -> #REF!
A7: Окончание работ - | C7: =#REF! -> #REF!
A9: № п.п. | B9: Перечень видов работ | C9: Стоимость объекта в прогнозных ценах (руб.)
C11: без НДС | D11: НДС-20 % | E11: с учетом НДС
A12: 1 | B12: 2 | C12: 3 | D12: 4 | E12: 5
A13: 1 | B13: Инженерные изыскания | C13: ='Расчет КВЛ'!#REF!*1.1 -> #REF! | D13: =C13*0.2 -> #REF! | E13: =C13+D13 -> #REF!
B14: В том числе:
B15: непредвиденные затраты | C15: ='Расчет КВЛ'!#REF! -> #REF! | D15: =C15*0.2 -> #REF! | E15: =C15+D15 -> #REF!
B16: инфляционная составляющая за период выполнения работ | C16: =('Расчет КВЛ'!#REF!-'Расчет КВЛ'!#REF!)*1.1 -> #REF! | D16: =C16*0.2 -> #REF! | E16: =C16+D16 -> #REF!
A17: 2 | B17: Разработка проектной документации стадии "Проектная документация" | C17: ='Расчет КВЛ'!#REF!*1.02 -> #REF! | D17: =C17*0.2 -> #REF! | E17: =C17+D17 -> #REF!
B18: В том числе:
B19: непредвиденные затраты | C19: ='Расчет КВЛ'!#REF! -> #REF! | D19: =C19*0.2 -> #REF! | E19: =C19+D19 -> #REF!
B20: инфляционная составляющая за период выполнения работ | C20: =('Расчет КВЛ'!#REF!-'Расчет КВЛ'!#REF!)*1.02 -> #REF! | D20: =C20*0.2 -> #REF! | E20: =C20+D20 -> #REF!
A21: 3 | B21: Строительство (строительно-монтажные и пусконаладочные работы, оборудование, прочие затраты) | C21: ='Расчет КВЛ'!#REF! -> #REF! | D21: =C21*0.2 -> #REF! | E21: =C21+D21 -> #REF!
B22: В том числе:
B23: оборудование | C23: ='Расчет КВЛ'!#REF! -> #REF! | D23: =C23*0.2 -> #REF! | E23: =C23+D23 -> #REF!
B24: непредвиденные затраты | C24: ='Расчет КВЛ'!#REF! -> #REF! | D24: =C24*0.2 -> #REF! | E24: =C24+D24 -> #REF!
B25: инфляционная составляющая за период выполнения работ | C25: ='Расчет КВЛ'!#REF!-'Расчет КВЛ'!#REF! -> #REF! | D25: =C25*0.2 -> #REF! | E25: =C25+D25 -> #REF!
B26: Итого | C26: =C13+C17+C21 -> #REF! | D26: =D13+D17+D21 -> #REF! | E26: =E13+E17+E21 -> #REF!
B27: В том числе:
B28: оборудование | C28: =C23 -> #REF! | D28: =C28*0.2 -> #REF! | E28: =C28+D28 -> #REF!
B29: непредвиденные затраты | C29: =C15+C19+C24 -> #REF! | D29: =C29*0.2 -> #REF! | E29: =C29+D29 -> #REF!
B30: инфляционная составляющая за период выполнения работ | C30: =C16+C20+C25 -> #REF! | D30: =C30*0.2 -> #REF! | E30: =C30+D30 -> #REF!
A32: Разработал:
A33: Главный эксперт направления сметного регулирования Управления проектов Департамента развития инфраструктуры | E33: Татаринов А.Ю.
A35: Проверил:
A36: Заместитель руководителя управления направления сметного регулирования Управления проектов Департамента развития инфраструктуры | E36: Татаринова Е.А.
A38: Согласовал:
A39: Директор Департамента развития инфраструктуры | E39: Богуш Б.Б.
D44: КВЛ | E44: ='Расчет КВЛ'!Z112 -> 704889.55 | F44: руб.
D45: в том числе ПИР | E45: =(E13+E17)/E26 -> #REF!

Sheet НМЦ
A1: Расчет начальной максимальной цены договора
A2: на выполнение проектно-изыскательских работ по объекту:
A3: =Пояснительная!$A$4 -> «Всесезонный туристско-рекреационный комплекс «Мамисон», Республика Северная Осетия-Алания. Кампус»
A5: Продолжительность работ в соответствии с Графиком | C5: =ROUNDUP((C7-C6)/30.5,1) -> 4 | D5: месяца
A6: Начало работ: | C6: =НМЦК!$F$28 -> 46335
A7: Окончание работ: | C7: =НМЦК!$F$29 -> 46455
A9: № п.п. | B9: Перечень видов работ | C9: Стоимость проектирования объекта в прогнозных ценах периода проектирования (руб.) | F9: Ориентировочная стоимость строительства, руб. | G9: ПИР в %
C11: без НДС | D11: НДС-22 % | E11: с учетом НДС
A12: 1 | B12: 2 | C12: 3 | D12: 4 | E12: 5
A13: 1 | B13: Инженерные изыскания | C13: =НМЦК!$F$14 -> 4648758.9 | D13: =C13*0.22 -> 1022726.9 | E13: =C13+D13 -> 5671485.8
A14: 2 | B14: Разработка проектной документации стадии "Проектная документация" | C14: =НМЦК!$F$15 -> 13051914 | D14: =C14*0.22 -> 2871421.1 | E14: =C14+D14 -> 15923335
A15: 3 | B15: Оценка воздействия на окружающую среду | D15: =C15*0.22 -> 0 | E15: =C15+D15 -> 0
A16: 4 | B16: Оценка воздействия проектируемого объекта на водные биологические ресурсы и среду их обитания, Расчет ущерба водно-биологическим ресурсам (2 водных объекта второй рыбохозяйственной категории) | C16: 0 | D16: =C16*0.22 -> 0 | E16: =C16+D16 -> 0
A17: 5 | B17: Дендрологическое обследование лесных насаждений, в том числе на наличие растений и деревьев, занесенных в Красную книгу | C17: 0 | D17: 0 | E17: =C17+D17 -> 0 | F17: Не облагается НДС
A18: 6 | B18: Государственная экологическая экспертиза | C18: 0 | D18: 0 | E18: =C18+D18 -> 0 | F18: Не облагается НДС
A19: 7 | B19: Государственная историко-культурная экспертиза | C19: 0 | D19: =C19*22% -> 0 | E19: =C19+D19 -> 0
B20: Итого: | C20: =C13+C14+C15+C16+C17+C18+C19 -> 17700673 | D20: =D13+D14+D15+D16+D17+D18+D19 -> 3894148 | E20: =E13+E14+E15+E16+E17+E18+E19 -> 21594821 | F20: ='Расчет КВЛ'!$Z$112*1000 -> 704889550 | G20: =E20/F20 -> 0.0306
B21: В том числе инфляционная составляющая за период выполнения работ | C21: =НМЦК!$F$21-НМЦК!$B$21 -> 478768.93 | D21: =C21*0.22 -> 105329.16 | E21: =C21+D21 -> 584098.09
A23: Разработал:
A24: Начальник отдела ценообразования управления проектов департамента развития инфраструктуры | E24: А.Ю. Татаринов
A26: Проверил:
A27: Заместитель директора департамента по ценообразованию и сметному регулированию Департамента развития инфраструктуры | E27: Е.А. Татаринова
A29: Согласовал:
A30: Директор Департамента развития инфраструктуры | E30: И.В. Евдокимов

Sheet НМЦК
A1: Расчет начальной (максимальной) цены контракта при осуществлении закупок работ по инженерным изысканиям и по подготовке проектной документации
A2: объект: | B2: =Пояснительная!$A$4 -> «Всесезонный туристско-рекреационный комплекс «Мамисон», Республика Северная Осетия-Алания. Кампус»
A3: по адресу: | B3: Российская Федерация, Республика Северная Осетия - Алания
A5: Основания для расчета:
A7: 1. Задание на проектирование.
A8: 2. Предполагаемые виды и объемы изыскательских работ
A9: 3. Продолжительность проектирования: | B9: =ROUNDUP(($F$29-$F$28)/30.5,1) -> 4 | C9: месяца
A11: Наименование работ и затрат | B11: Стоимость работ в ценах сметной документации II квартала 2026 г. | C11: Индекс фактической инфляции* | D11: Стоимость работ в ценах на дату формирования начальной (максимальной) цены контракта | E11: Индекс прогнозной инфляции на период выполнения работ | F11: Начальная (максимальная) цена контракта с учетом индекса прогнозной инфляции на период выполнения работ
A13: 1 | B13: 2 | C13: 3 | D13: 4 | E13: 5 | F13: 6
A14: Инженерные изыскания | B14: ='Cводная смета ПИР'!$G$20 -> 4523018.9 | C14: =$C$25 -> 1 | D14: =B14*C14 -> 4523018.9 | E14: =F39 -> 1.0278 | F14: =D14*E14 -> 4648758.9
A15: Проектная документация | B15: ='Cводная смета ПИР'!$G$26 -> 12698885 | C15: =$C$25 -> 1 | D15: =B15*C15 -> 12698885 | E15: =F39 -> 1.0278 | F15: =D15*E15 -> 13051914
A16: Оценка воздействия на окружающую среду | C16: =$C$25 -> 1 | D16: =B16*C16 -> 0 | E16: =F39 -> 1.0278 | F16: =D16*E16 -> 0
A17: Оценка воздействия проектируемого объекта на водные биологические ресурсы и среду их обитания, Расчет ущерба водно-биологическим ресурсам (2 водных объекта второй рыбохозяйственной категории) | B17: 0 | C17: =$C$25 -> 1 | D17: =B17*C17 -> 0 | E17: 1 | F17: =D17*E17 -> 0
A18: Дендрологическое обследование лесных насаждений , в том числе на наличие растений и деревьев, занесенных в Красную книгу | B18: 0 | C18: =$C$25 -> 1 | D18: =B18*C18 -> 0 | E18: 1 | F18: =D18*E18 -> 0
A19: Государственная экологическая экспертиза | B19: 0 | C19: =$C$25 -> 1 | D19: =B19*C19 -> 0 | E19: 1 | F19: =D19*E19 -> 0
A20: Государственная историко-культурная экспертиза | B20: 0 | C20: =$C$25 -> 1 | D20: =B20*C20 -> 0 | E20: 1 | F20: =D20*E20 -> 0
A21: Стоимость без учета НДС | B21: =B14+B15+B16+B17+B18+B19+B20 -> 17221904 | D21: =D14+D15+D16+D17+D18+D19+D20 -> 17221904 | F21: =F14+F15+F16+F17+F18+F19+F20 -> 17700673
A22: НДС-22% | B22: =B21*22% -> 3788818.9 | D22: =D21*22% -> 3788818.9 | F22: =F21*22% -> 3894148
A23: Стоимость с учетом НДС | B23: =B21+B22 -> 21010723 | D23: =D21+D22 -> 21010723 | F23: =F21+F22 -> 21594821
A25: *Индекс фактической инфляции по данным Росстата от цен сметной документации до даты формирования НМЦК: | C25: 1
A26: Индекс прогнозной инфляции:
A27: Дата формирования НМЦК | F27: 46204 | G27: дата формирования НМЦК принята следующим днем за периодом окончания действия цен сметной документации (2 кв. 2026 г.)
A28: Начало работ | F28: 46335 | G28: 46387 | H28: окончание первого года
A29: Окончание работ | F29: =F28+120 -> 46455 | G29: 46388 | H29: начало второго года
A30: Продолжительность выполнения работ, мес. | F30: =ROUNDUP((F29-F28)/30.5,1) -> 4
A31: Д1 - доля сметной стоимости, подлежащая выполнению подрядчиком в 2026 году | F31: =(G28-F28)/30.5/F30 -> 0.43
A32: Д2 - Доля сметной стоимости, подлежащая выполнению подрядчиком в 2027 году | F32: =1-F31 -> 0.57
A33: Индекс Минэкономразвития РФ на 2026 г. (Письмо Минэкономразвития России от 30.09.2025 г. N 37099-ПК/Д03и) | F33: 1.055
A34: ежемесячный прогнозный индекс на 2026 год | D34: =F33 -> 1.055 | E34: ^(1/12) | F34: =F33^(1/12) -> 1.0045
A35: Индекс Минэкономразвития РФ на 2027 г. (Письмо Минэкономразвития России от 30.09.2025 г. N 37099-ПК/Д03и) | F35: 1.041
A36: ежемесячный прогнозный индекс на 2027 год | D36: =F35 -> 1.041 | E36: ^(1/12) | F36: =F35^(1/12) -> 1.0034
A37: К1 на 2026 = | C37: =CONCATENATE("(",F34,"^",ROUNDUP((F28-F27)/30.5,1),"+",F34,"^",ROUNDUP((G28-F27)/30.5,1),")/2") -> (1,0045^4,3+1,0045^6)/2 | F37: =(F34^ROUNDUP((F28-F27)/30.5,1)+F34^ROUNDUP((G28-F27)/30.5,1))/2 -> 1.0234
A38: К2 на 2027 = | C38: =CONCATENATE(F34,"^",ROUNDUP((G28-F27)/30.5,1),"*","(1+",F36,"^",ROUNDUP((F29-G29)/30.5,1),")/2") -> 1,0045^6*(1+1,0034^2,2)/2 | F38: =F34^ROUNDUP((G28-F27)/30.5,1)*(1+F36^ROUNDUP((F29-G29)/30.5,1))/2 -> 1.0312
A39: Индекс прогнозной инфляции | C39: =CONCATENATE(F31,"*",F37,"+",F32,"*",F38) -> 0,43*1,0234+0,57*1,0312 | F39: =F31*F37+F32*F38 -> 1.0278
A42: Разработал:
A43: Начальник отдела ценообразования управления проектов департамента развития инфраструктуры | F43: А.Ю. Татаринов
A45: Проверил:
A46: Заместитель директора департамента по ценообразованию и сметному регулированию Департамента развития инфраструктуры | F46: Е.А. Татаринова
A48: Согласовал:
A49: Директор Департамента развития инфраструктуры | F49: И.В. Евдокимов

Sheet Cводная смета ПИР
A1: ОП
A2: СВОДНАЯ СМЕТА
A3: на проектные (изыскательские) работы
A5: Наименование строительства и стадии проектирования | C5: ='Пояснительная (ПИР+СМР)'!A3 -> Кампус ВТРК «Мамисон»
A6: Наименование проектной организации - генерального проектировщика
A7: Наименование организации-заказчика | C7: АО "КАВКАЗ.РФ"
G8: Руб.
A9: № п/п | B9: Перечень выполняемых работ | C9: Характеристика проектируемого объекта п. ЗП | D9: Ссылка на №№ смет по формам 2п и 3п | E9: Стоимость работ, руб без НДС
E10: Изыскательские работы | F10: Проектные работы | G10: Итого
A11: 1 | B11: 2 | E11: 4 | F11: 5 | G11: 6
A12: 1. ИЗЫСКАТЕЛЬСКИЕ РАБОТЫ
A13: 1.1 | B13: Инженерно-геодезические изыскания | C13: комплекс | D13: Смета № 1-из | E13: =ИГДИ!$M$43 -> 573480.89 | G13: =E13 -> 573480.89
A14: 1.2 | B14: Инженерно-геологические изыскания | C14: комплекс | D14: Смета № 2-из | E14: =ИГИ!$M$131 -> 2899116.6 | G14: =E14 -> 2899116.6
A15: 1.3 | B15: Инженерно-гидрометеорологические изыскания | C15: комплекс | D15: Смета № 3-из | E15: =ИГМИ!$M$48 -> 169896.48 | G15: =E15 -> 169896.48
A16: 1.4 | B16: Оценка селевой и лавинной опасности | C16: комплекс | D16: Смета № 4-из | E16: =ЛиС!$M$48 -> 117944.95 | G16: =E16 -> 117944.95
A17: 1.5 | B17: Инженерно-экологические изыскания | C17: комплекс | D17: Смета № 5-из | E17: =Экология!$G$75 -> 569983.98 | G17: =E17 -> 569983.98
A18: 1.6 | B18: Геофизические исследования | C18: комплекс | D18: Смета № 6-из | G18: =E18 -> 0
A19: 1.6 | B19: Археологические исследования | C19: комплекс | D19: Смета № 6-арх | E19: =Археология!$G$31 -> 192596 | G19: =E19 -> 192596
A20: ИТОГО по разделу 1: | G20: =SUM(G13:G19) -> 4523018.9
A21: 2. ПРОЕКТНЫЕ РАБОТЫ СТАДИИ ПД
A22: 2.1 | B22: Проектная документация | D22: Смета № 1-пд. | F22: =ПД!$M$815 -> 12698885 | G22: =F22 -> 12698885
A23: 2.2 | B23: Разработка проекта освоения лесов | D23: КП № ______ от __.__.2024 | G23: =F23 -> 0
A24: 2.3 | B24: Оценка воздействия на окружающую среду | D24: Расчет ОВОС | G24: =F24 -> 0 | H24: нет в ТЭП
A25: 2.4 | B25: Оценка воздействия проектируемого объекта на водные биологические ресурсы и среду их обитания (1 водный объект I-й рыбохозяйственной категории) | D25: Приложение №1 Прейскурант ФГБУ "Главрыбвод" к приказу от 29.12.2023 № 188, п. 1.2.2 (https://glavrybvod.ru/vnebjudzhetnaja-dejatelnost/prejskurant-cen-na-vnebjudzhetnuju-dejatelnost/) | F25: =192792/1.2*0 -> 0 | G25: =F25 -> 0 | H25: нет в ТЭП
A26: ИТОГО по разделу 2: | G26: =SUM(G22:G25) -> 12698885
A27: 3. ПРОЕКТНЫЕ РАБОТЫ СТАДИИ РД
A28: 3.1 | B28: Рабочая документация | D28: Смета № 1-РД. | G28: =F28 -> 0
A29: ИТОГО по разделу 3: | G29: =SUM(G28:G28) -> 0
A30: ВСЕГО: | G30: =G20+G26+G29 -> 17221904
A31: Заместитель директора департамента по ценообразованию и сметному регулированию Департамента развития инфраструктуры | E31: Е.А. Татаринова

Sheet Экспертиза ПД и ИЗ
A2: Расчет затрат на проведение экспертизы проектных решений и материалов инженерных изысканий
A4: Наименование предприятия, здания, сооружения | C4: ='Cводная смета ПИР'!C5:G5 -> Кампус ВТРК «Мамисон»
A5: Стадия проектирования
A6: Вид проектных или изыскательских работ | C6: Экспертиза проектно-изыскательских работ
A7: Наименование проектной (изыскательской) организации
A8: Наименование организации заказчика | C8: АО "Курорты Северного Кавказа"
A10: № п/п | B10: Характеристика предприятия, здания, сооружения или виды работ | C10: Номер частей, глав, таблиц, процентов, параграфов и пунктов указаний к разделу Справочника базовых цен на проектные и изыскательские работы для строительства | F10: Единица измерения | G10: Расчет стоимости: (a+bx)*Kj или (объём строительно-монтажных работ)*проц./ 100 или количество * цена | H10: Стоимость работ, Руб.
A11: 1 | B11: Изыскательские работы
C12: Стоимость инж.изыск.в ценах 1 кв.2023 | D12: ='Cводная смета ПИР'!G20 -> 4523019 | E12: рублей
C13: Коэф.1 кв.2023 | D13: 5.36
C14: Стоимость инж.изыск. в уровне цен 01.01.2001 г. без НДС | D14: =D12/D13 -> 843847 | E14: рублей
A15: 2 | B15: Проектная документация
C16: Стоимость проектных работ в ценах 1 кв.2023 | D16: ='Cводная смета ПИР'!G26 -> 12698885 | E16: рублей
C17: Коэф.1 кв.2023 | D17: 5.32
C18: Стоимость проектных работ в уровне цен 01.01.2001 г. без НДС | D18: =D16/D17 -> 2387008 | E18: рублей
C19: Итого: ИЗ+ПД | D19: =D14+D18 -> 3230855 | E19: рублей | G19: более 8 млн
B20: Постановление Правительства РФ от 05.03.2007 № 145 | C20: % от суммы Спд и Сиж | D20: =D50/100 -> 0.0615 | H20: =D19*D20 -> 198698
C21: Индекс пересчета в текущие цены 2023 г | D21: 5.32 | H21: =ROUND(H20*D21,0) -> 1057073
C29: Приложение
C30: к Положению об организации
C31: и проведении государственной экспертизы
C32: проектной документации и результатов
C33: инженерных изысканий
C35: Таблица процентного соотношения, используемого при расчете размера платы за проведение государственной экспертизы
C38: Сумма Спд и Сиж (млн.рублей, | D38: Процент от суммы Спд и Сиж
C39: в ценах 2001 года) | D39: (П)
C40: 0-0,15 | D40: 33.75
C41: более 0,15 | D41: 29.25
C42: более 0,25 | D42: 27.3
C43: более 0,5 | D43: 20.22
C44: более 0,75 | D44: 16.65
C45: более 1 | D45: 12.69
C46: более 1,5 | D46: 11.88
C47: более 3 | D47: 10.98
C48: более 4 | D48: 8.77
C49: более 6 | D49: 7.07
C50: более 8 | D50: 6.15
C51: более 12 | D51: 4.76
... C67: более 220 | D67: 0.58

Sheet Геология (без неблагопр период)
E1: Форма 2п
B2: Приложение к
D3: (договору, дополнительному соглашению)
B4: СМЕТА № 2-из
B5: на проектные (изыскательские) работы
B7: , Реконструкция снегоудерживающих сооружений ВТРК «Эльбрус». Этап 1., Инженерно-геологические изыскания,
B8: Наименование предприятия, здания, сооружения, стадии проектирования, этапа, вида проектных
B10: Наименование проектной (изыскательской) организации:
B12: Наименование организации заказчика:
C13: АО "КАВКАЗ.РФ"
B15: Итого по расчету: 12 262 666,27 руб.
B17: № пп | C17: Характеристика предприятия, здания, сооружения или вид работ | D17: Номер частей, глав, таблиц, параграфов и пунктов указаний к разделу справочника базовых цен на проектные и изыскательские работы для строителей | E17: Расчет стоимости: (a+bx)*Kj или (стоимость строительно-монтажных работ)*проц./ 100 или количество * цена, руб. | F17: Стоимость работ, руб.
B18: 1 | C18: 2 | D18: 3 | E18: 4 | F18: 5
B19: Раздел 1. Полевые работы
B20: 1 | C20: Инженерно-геологическая, гидрогеологическая рекогносцировка при проходимости плохой: 3 категория сложности, полевые работы, 3(1 км маршрута) | D20: СБЦ "Инженерно-геологические и инженерно-экологические изыскания для строительства (1999)" табл.9 п.3-3-1 (СБЦ103-9-3-3-1) | E20: (47,2*3)*1,2, где количество 3=3 | F20: 169,92
D21: ОУ п.8а При выполнении изысканий в горных и высокогорных районах с абсолютными высотами поверхности участка над уровнем моря: св. 2000 до 3000 м К=1,2
B23: 2 | C23: Наблюдения при передвижении по маршруту при составлении инженерно-геологической, гидрогеологической,почвенной,инженерно-экологической карты в масштабе 1:10000-1:5000: проходимость плохая, полевые работы, 2(1 км маршрута) | D23: СБЦ "Инженерно-геологические и инженерно-экологические изыскания для строительства (1999)" табл.10 п.3-3-1 (СБЦ103-10-3-3-1) | E23: (30*2)*1,2, где количество 2=2 | F23: 72,00
D24: ОУ п.8а При выполнении изысканий в горных и высокогорных районах с абсолютными высотами поверхности участка над уровнем моря: св. 2000 до 3000 м К=1,2
B26: 3 | C26: Описание точек наблюдений при составлении инженерно-геологических (гидрогеологических) карт: категория сложности 3, полевые работы, 72(1 точка) | D26: СБЦ "Инженерно-геологические и инженерно-экологические изыскания для строительства (1999)" табл.11 п.1-3-1 (СБЦ103-11-1-3-1) | E26: (16,4*72)*1,2, где количество 72=72 | F26: 1 416,96
D27: ОУ п.8а При выполнении изысканий в горных и высокогорных районах с абсолютными высотами поверхности участка над уровнем моря: св. 2000 до 3000 м К=1,2
B29: 4 | C29: Колонковое бурение скважины диаметром до 160мм, глубиной до 15м: категория породы 9, 300(м) | D29: СБЦ "Инженерно-геологические и инженерно-экологические изыскания для строительства (1999)" табл.17 п.1-9 (СБЦ103-17-1-9) | E29: (99,7*300)*1,2*1,1, где количество 300=300 | F29: 39 481,20
D30: ОУ п.8а При выполнении изысканий в горных и высокогорных районах с абсолютными высотами поверхности участка над уровнем моря: св. 2000 до 3000 м К=1,2;
D31: Ч.II,ОП п.7 при уклонах от 10° до 30° К=1,1
B33: 5 | C33: Колонковое бурение скважины диаметром до 160мм, глубиной до 15м: категория породы 10, 300(м) | D33: СБЦ "Инженерно-геологические и инженерно-экологические изыскания для строительства (1999)" табл.17 п.1-10 (СБЦ103-17-1-10) | E33: (145,8*300)*1,2*1,1, где количество 300=300 | F33: 57 736,80
D34: ОУ п.8а При выполнении изысканий в горных и высокогорных районах с абсолютными высотами поверхности участка над уровнем моря: св. 2000 до 3000 м К=1,2;
D35: Ч.II,ОП п.7 при уклонах от 10° до 30° К=1,1
B37: 6 | C37: Определение объемного веса в естественном залегании и коэффициента разрыхления несвязного грунта (взвешивание и замер извлекаемого грунта мерными ящиками, замер объема опытного шурфа засыпкой сортированным песком), 6(опыт) | D37: СБЦ "Инженерно-геологические и инженерно-экологические изыскания для строительства (1999)" табл.59 п.8 (СБЦ103-59-8) | E37: (60,2*6)*1,2, где количество 6=6 | F37: 433,44
D38: ОУ п.8а При выполнении изысканий в горных и высокогорных районах с абсолютными высотами поверхности участка над уровнем моря: св. 2000 до 3000 м К=1,2
B39: 7 | C39: Плановая и высотная привязка при расстоянии между геологическими выработками или точками до 50м: категория сложности 3 (Предварительная разбивка), 200(1 выработка (точка)) | D39: СБЦ "Инженерно-геологические и инженерно-экологические изыскания для строительства (1999)" табл.93 п.1-3 (СБЦ103-93-1-3) | E39: (10,8*200)*1,2*0,5, где количество 200=200 | F39: 1 296,00
D40: ОУ п.8а При выполнении изысканий в горных и высокогорных районах с абсолютными высотами поверхности участка над уровнем моря: св. 2000 до 3000 м К=1,2;
D41: прим.1 предварительная разбивка местоположения выработок (точек) К=0,5
B43: 8 | C43: Плановая и высотная привязка при расстоянии между геологическими выработками или точками до 50м: категория сложности 3, 200(1 выработка (точка)) | D43: СБЦ "Инженерно-геологические и инженерно-экологические изыскания для строительства (1999)" табл.93 п.1-3 (СБЦ103-93-1-3) | E43: (10,8*200)*1,2, где количество 200=200 | F43: 2 592,00
D44: ОУ п.8а При выполнении изысканий в горных и высокогорных районах с абсолютными высотами поверхности участка над уровнем моря: св. 2000 до 3000 м К=1,2
B46: 9 | C46: Отбор монолитов из буровых скважин (связные грунты) с глубины до 10м (Скальные грунты), 40(1 монолит) | D46: СБЦ "Инженерно-геологические и инженерно-экологические изыскания для строительства (1999)" табл.57 п.1-1 (СБЦ103-57-1-1) | E46: (22,9*40)*0,7*1,2, где количество 40=40 | F46: 769,44
D47: прим. отбор монолита скальных пород при колонковом бурении определяется по ценам отбора монолита из буровой скважины К=0,7;
D48: ОУ п.8а При выполнении изысканий в горных и высокогорных районах с абсолютными высотами поверхности участка над уровнем моря: св. 2000 до 3000 м К=1,2
C49: Итого по разделу 1 Полевые работы
C50: Итого Поз. 1-9 | F50: 103 967,76
C51: Всего c учетом "Индекс изменения сметной стоимости изыскательских работ на IV квартал 2023 года к уровню цен по состоянию на 01.01.1991 по Письму Минстроя России от 28.11.2023 №73528-ИФ/09 64,8900" | F51: 6 746 467,95
C52: Итого по разделу 1 Полевые работы | F52: 6 746 467,95
...

Sheet Геология (в благопр услов)
E1: Форма 2п
B2: Приложение к
D3: (договору, дополнительному соглашению)
B4: СМЕТА № 2-из
B5: на проектные (изыскательские) работы
B7: , Реконструкция снегоудерживающих сооружений ВТРК «Эльбрус». Этап 1., Инженерно-геологические изыскания,
B8: Наименование предприятия, здания, сооружения, стадии проектирования, этапа, вида проектных
B10: Наименование проектной (изыскательской) организации:
B12: Наименование организации заказчика:
C13: АО "КАВКАЗ.РФ"
B15: Итого по расчету: 16 807 964,83 руб.
B17: № пп | C17: Характеристика предприятия, здания, сооружения или вид работ | D17: Номер частей, глав, таблиц, параграфов и пунктов указаний к разделу справочника базовых цен на проектные и изыскательские работы для строителей | E17: Расчет стоимости: (a+bx)*Kj или (стоимость строительно-монтажных работ)*проц./ 100 или количество * цена, руб. | F17: Стоимость работ, руб.
B18: 1 | C18: 2 | D18: 3 | E18: 4 | F18: 5
B19: Раздел 1. Полевые работы
B20: 1 | C20: Инженерно-геологическая, гидрогеологическая рекогносцировка при проходимости плохой: 3 категория сложности, полевые работы, 3(1 км маршрута) | D20: СБЦ "Инженерно-геологические и инженерно-экологические изыскания для строительства (1999)" табл.9 п.3-3-1 (СБЦ103-9-3-3-1) | E20: (47,2*3)*1,4*1,2, где количество 3=3 | F20: 237,89
D21: ОУ п.8г При выполнении полевых изыскательских работ в неблагоприятный период года: при продолжительности неблагоприятного периода 8-9,5 мес. К=1,4;
D22: ОУ п.8а При выполнении изысканий в горных и высокогорных районах с абсолютными высотами поверхности участка над уровнем моря: св. 2000 до 3000 м К=1,2
B23: 2 | C23: Наблюдения при передвижении по маршруту при составлении инженерно-геологической, гидрогеологической,почвенной,инженерно-экологической карты в масштабе 1:10000-1:5000: проходимость плохая, полевые работы, 2(1 км маршрута) | D23: СБЦ "Инженерно-геологические и инженерно-экологические изыскания для строительства (1999)" табл.10 п.3-3-1 (СБЦ103-10-3-3-1) | E23: (30*2)*1,4*1,2, где количество 2=2 | F23: 100,80
D24: ОУ п.8г При выполнении полевых изыскательских работ в неблагоприятный период года: при продолжительности неблагоприятного периода 8-9,5 мес. К=1,4;
D25: ОУ п.8а При выполнении изысканий в горных и высокогорных районах с абсолютными высотами поверхности участка над уровнем моря: св. 2000 до 3000 м К=1,2
B26: 3 | C26: Описание точек наблюдений при составлении инженерно-геологических (гидрогеологических) карт: категория сложности 3, полевые работы, 72(1 точка) | D26: СБЦ "Инженерно-геологические и инженерно-экологические изыскания для строительства (1999)" табл.11 п.1-3-1 (СБЦ103-11-1-3-1) | E26: (16,4*72)*1,4*1,2, где количество 72=72 | F26: 1 983,74
D27: ОУ п.8г При выполнении полевых изыскательских работ в неблагоприятный период года: при продолжительности неблагоприятного периода 8-9,5 мес. К=1,4;
D28: ОУ п.8а При выполнении изысканий в горных и высокогорных районах с абсолютными высотами поверхности участка над уровнем моря: св. 2000 до 3000 м К=1,2
B29: 4 | C29: Колонковое бурение скважины диаметром до 160мм, глубиной до 15м: категория породы 9, 300(м) | D29: СБЦ "Инженерно-геологические и инженерно-экологические изыскания для строительства (1999)" табл.17 п.1-9 (СБЦ103-17-1-9) | E29: (99,7*300)*1,4*1,2*1,1, где количество 300=300 | F29: 55 273,68
D30: ОУ п.8г При выполнении полевых изыскательских работ в неблагоприятный период года: при продолжительности неблагоприятного периода 8-9,5 мес. К=1,4;
D31: ОУ п.8а При выполнении изысканий в горных и высокогорных районах с абсолютными высотами поверхности участка над уровнем моря: св. 2000 до 3000 м К=1,2;
D32: Ч.II,ОП п.7 при уклонах от 10° до 30° К=1,1
B33: 5 | C33: Колонковое бурение скважины диаметром до 160мм, глубиной до 15м: категория породы 10, 300(м) | D33: СБЦ "Инженерно-геологические и инженерно-экологические изыскания для строительства (1999)" табл.17 п.1-10 (СБЦ103-17-1-10) | E33: (145,8*300)*1,4*1,2*1,1, где количество 300=300 | F33: 80 831,52
D34: ОУ п.8г При выполнении полевых изыскательских работ в неблагоприятный период года: при продолжительности неблагоприятного периода 8-9,5 мес. К=1,4;
D35: ОУ п.8а При выполнении изысканий в горных и высокогорных районах с абсолютными высотами поверхности участка над уровнем моря: св. 2000 до 3000 м К=1,2;
D36: Ч.II,ОП п.7 при уклонах от 10° до 30° К=1,1
B37: 6 | C37: Определение объемного веса в естественном залегании и коэффициента разрыхления несвязного грунта (взвешивание и замер извлекаемого грунта мерными ящиками, замер объема опытного шурфа засыпкой сортированным песком), 6(опыт) | D37: СБЦ "Инженерно-геологические и инженерно-экологические изыскания для строительства (1999)" табл.59 п.8 (СБЦ103-59-8) | E37: (60,2*6)*1,2*1,4, где количество 6=6 | F37: 606,82
D38: ОУ п.8а При выполнении изысканий в горных и высокогорных районах с абсолютными высотами поверхности участка над уровнем моря: св. 2000 до 3000 м К=1,2;
D39: ОУ п.8г При выполнении полевых изыскательских работ в неблагоприятный период года: при продолжительности неблагоприятного периода 8-9,5 мес. К=1,4
B40: 7 | C40: Плановая и высотная привязка при расстоянии между геологическими выработками или точками до 50м: категория сложности 3 (Предварительная разбивка), 200(1 выработка (точка)) | D40: СБЦ "Инженерно-геологические и инженерно-экологические изыскания для строительства (1999)" табл.93 п.1-3 (СБЦ103-93-1-3) | E40: (10,8*200)*1,4*1,2*0,5, где количество 200=200 | F40: 1 814,40
D41: ОУ п.8г При выполнении полевых изыскательских работ в неблагоприятный период года: при продолжительности неблагоприятного периода 8-9,5 мес. К=1,4;
D42: ОУ п.8а При выполнении изысканий в горных и высокогорных районах с абсолютными высотами поверхности участка над уровнем моря: св. 2000 до 3000 м К=1,2;
D43: прим.1 предварительная разбивка местоположения выработок (точек) К=0,5
B44: 8 | C44: Плановая и высотная привязка при расстоянии между геологическими выработками или точками до 50м: категория сложности 3, 200(1 выработка (точка)) | D44: СБЦ "Инженерно-геологические и инженерно-экологические изыскания для строительства (1999)" табл.93 п.1-3 (СБЦ103-93-1-3) | E44: (10,8*200)*1,4*1,2, где количество 200=200 | F44: 3 628,80
D45: ОУ п.8г При выполнении полевых изыскательских работ в неблагоприятный период года: при продолжительности неблагоприятного периода 8-9,5 мес. К=1,4;
...

Sheet ИГДИ
A1: Адепт: Проект v 2026.3.0 © ООО"Адепт" | E1: форма №2П, 1/пр от 12.05.2026г.
A3: СМЕТА №1-из
A4: на инженерно-геодезические изыскания
A6: Инженерно-геодезические изыскания
A7: (наименование вида инженерных изысканий)
A9: Кампус ВТРК "Мамисон"
A10: (наименование объекта капитального строительства)
A12: Сметный расчет составлен по следующим документам: НЗ №812/пр. Работы по инженерно-геодезическим изысканиям (ИГДИ). 2024 г.
A14: Сметный расчет составлен в ценах II кв. 2026 г.
A16: № пп | B16: Наименование работ и затрат | G16: Обоснование стоимости | J16: Расчет стоимости | M16: Сметная стоимость в уровне цен, сложившемся на день составления сметной документации, руб. | O16: Примечания
A17: 1 | B17: 2 | G17: 3 | J17: 4 | M17: 5 | O17: 6
B18: I. Полевые работы
A19: 1.1 | B19: Создание пунктов плановой опорной геодезической сети без закладки центров методом спутниковых геодезических определений: 2-го разряда в условиях выполнения полевых работ . Категория II. | G19: НЗ 11.16_0-3-7-8 Таблица 7 п.8 A = 35837 руб.; Количество = 3 (1 пункт); | J19: A * Количество * Ктек * К3 35837 руб. * 3 * 1.25 * 0.5 | M19: =ROUND(35837 * 3 * 1.25 * 0.5, 2) -> 67194.38
B20: Коэффициенты
B21: (К3) Стоимость полевых работ по созданию пунктов плановой опорной геодезической сети без закладки центров методом спутниковых геодезических определений, совмещенных с пунктами высотной опорной сети IV класса, созданных без закладки центров методом спутниковых геодезических определений, рассчитывается суммированием соответствующих показателей затрат на работы по созданию пунктов плановой опорной геодезической сети, приведенных в таблице 7 НЗ, и показателей затрат, умноженных на корректирующий коэффициент | G21: К3 = 0.5 Прим. к табл.7, п.1 (Ценообразующий)
A22: 1.2 | B22: Закладка центров (реперов) пунктов опорной геодезической сети с применением буровых установок: глубиной до 2 метров включительно. Категория II. | G22: НЗ 11.16_0-3-12-4 Таблица 12 п.4 A = 26188 руб.; Количество = 3 (1 пункт); | J22: A * Количество * Ктек 26188 руб. * 3 * 1.25 | M22: =ROUND(26188 * 3 * 1.25, 2) -> 98205
A23: 1.3 | B23: Топографическая съемка тахеометрическим методом и сочетанием тахеометрического метода с методом спутниковых геодезических определений высотой сечения рельефа через 0.5 м метров. Незастроенная территория. в масштабе 1:500 в условиях выполнения полевых работ. Категория II. | G23: НЗ 11.16_0-4-18-2 Таблица 18 п.2 A = 17656 руб.; Количество = 1 (1 гектар); | J23: A * Количество * Ктек 17656 руб. * 1 * 1.25 | M23: =ROUND(17656 * 1 * 1.25, 2) -> 22070
A24: 1.4 | B24: Поиск и съемка подземных инженерных коммуникаций при помощи трубокабелеискателя при количестве точек подземных инженерных коммуникаций на 1 гектар снимаемого участка: от 7 до 14 включительно. | G24: НЗ 11.16_0-5-46-2 Таблица 46 п.2 A = 24772 руб.; Количество = 1 (1 гектар); | J24: A * Количество * Ктек 24772 руб. * 1 * 1.25 | M24: =ROUND(24772 * 1 * 1.25, 2) -> 30965 | O24: Поиск местоположения трассы подземной инженерной коммуникации. Съёмка оси трассы подземной инженерной коммуникации. Планово-высотная привязка выходов подземных инженерных коммуникаций на поверхность земли. Определение глубины залегания. Закрепление оси трасс в местах пересечения существующих инженерных сетей с проектируемой.
A25: 1.5 | B25: Привязка инженерно-геологических выработок, геофизических гидрогеологических точек наблюдения: при расстоянии между точками от 50 (пятидесяти) до 100 (ста) метров включительно, в условиях выполнения полевых работ . Категория II. | G25: НЗ 11.16_0-7-55-5 Таблица 55 п.5 A = 4882 руб.; Количество = 10 (1 точка); | J25: A * Количество * Ктек 4882 руб. * 10 * 1.25 | M25: =ROUND(4882 * 10 * 1.25, 2) -> 61025
B26: Итого по разделу I | M26: =ROUND(SUM($M$19:$M$25),2) -> 279459.38
B27: Всего по разделу I | M27: =ROUND(($M$26),2) -> 279459.38
B28: II. Камеральные работы
A29: 2.1 | B29: Камеральная обработка результатов измерений, выполненных при создании пунктов плановой опорной геодезической сети 4-го класса, 1-го и 2-го разрядов | G29: НЗ 11.16_0-3-16-1 Таблица 16 п.1 A = 1714 руб.; Количество = 3 (1 пункт); | J29: A * Количество * Ктек 1714 руб. * 3 * 1.25 | M29: =ROUND(1714 * 3 * 1.25, 2) -> 6427.5
A30: 2.2 | B30: Создание инженерно-топографических планов в масштабе 1:500. Незастроенная территория. для условий выполнения полевых работ категории II. Площадь участка до 10 гектаров включительно. | G30: НЗ 11.16_0-6-47-5 Таблица 47 п.5 ПЗ1к = 1 392 руб.; ПЗ2к = 2 331 руб.; Sсъемки = 1 (1 гектар); Количество = 1; | J30: (ПЗ1к + ПЗ2к * Sсъемки) * Количество * Ктек (1 392 руб. + 2 331 руб. * 1) * 1 * 1.25 | M30: =ROUND((1392 + 2331 * 1) * 1 * 1.25, 2) -> 4653.75 | O30: Графическое изображение территории в виде карты, на которой указаны границы участков, объекты инфраструктуры, рельеф, коммуникации и другая информация: Рельеф местности; Границы участка и соседних земель; Естественные объекты; Инженерные коммуникации; Существующие здания, сооружения и инфраструктуру; Земельные участки; Планируемые объекты и строения
A31: 2.3 | B31: Нанесение подземных инженерных коммуникаций с их техническими характеристиками на инженерно-топографический план в масштабе 1:500: при количестве подземных инженерных коммуникаций по назначению на участке, подлежащем топографической съемке от 3 (трех) до 8 восьми включительно. до 10 гектаров включительно. | G31: НЗ 11.16_0-6-51-7 Таблица 51 п.7 ПЗ1к = 643 руб.; ПЗ2к = 1 018 руб.; Sсъемки = 1 (1 гектар); Количество = 1; | J31: (ПЗ1к + ПЗ2к * Sсъемки) * Количество * Ктек (643 руб. + 1 018 руб. * 1) * 1 * 1.25 | M31: =ROUND((643 + 1018 * 1) * 1 * 1.25, 2) -> 2076.25 | O31: Процесс поиска и обследования линейных сетей (трубопроводов, кабельных линий, коллекторов) с целью их отображения на плане
A32: 2.4 | B32: Согласование нанесения на инженерно-топографический план подземных инженерных коммуникаций и их технических характеристик с собственниками (эксплуатирующими организациями): известными. | G32: НЗ 11.16_0-11-82-1 Таблица 82 п.1 A = 21451 руб.; Количество = 4 (1 собственник (эксплуатирующая организация)); | J32: A * Количество * Ктек 21451 руб. * 4 * 1.25 | M32: =ROUND(21451 * 4 * 1.25, 2) -> 107255
B33: Итого по разделу II | M33: =ROUND(SUM($M$29:$M$32),2) -> 120412.5
B34: Всего по разделу II | M34: =ROUND(($M$33),2) -> 120412.5
B35: III. Дополнительные и специальные работы
A36: 3.1 | B36: Значения показателя дополнительных затрат на внешний транспорт (ПДЗвнеш), применяемые при использовании для ежедневного проезда работников и перевозки технических средств для полевых работ от места базирования до участка проведения полевых работ до начала рабочего времени и обратно на место базирования после завершения рабочего времени транспортных средств автомобильного транспорта при стоимости полевых работ, рассчитанной по показателям затрат НЗ (СПпз). Расстояние от места постоянной работы работников до участка проведения полевых работ до 200 километров включительно. | G36: НЗ 11.16_0-2-3(1) Таблица 3 A = 13.2%; X = 223.5675 тыс. руб.; Сп = 223567.5 руб. в базовом уровне цен | J36: А / 100 * Х * Количество * Ктек 13.2 / 100 * 223.5675 * 1 * 1.25 | M36: =ROUND((13.2 / 100 * 223.5675 * 1 * 1.25) * 1000, 2) -> 36888.64 | O36: Местоположение базы г. Владикавказ
A37: 3.2 | B37: Показатель дополнительных затрат на организацию полевых работ (ПД3орг) при стоимости полевых работ, рассчитанной по показателям затрат НЗ (СПпз). Расстояние от места постоянной работы работников до участка проведения полевых работ до 200 километров включительно. | G37: НЗ 11.16_0-2-4(1) Таблица 4 A = 30.7%; X = 223.5675 тыс. руб.; Сп = 223567.5 руб. в базовом уровне цен | J37: А / 100 * Х * Количество * Ктек 30.7 / 100 * 223.5675 * 1 * 1.25 | M37: =ROUND((30.7 / 100 * 223.5675 * 1 * 1.25) * 1000, 2) -> 85794.03 | O37: Местоположение базы г. Владикавказ
A38: 3.3 | B38: Составление программы инженерно-геодезических изысканий при общей стоимости полевых и камеральных работ, определенной по показателям затрат, приведенным в НЗ, тысяч рублей: | G38: НЗ 11.16_0-10-80(1) Таблица 80 п.1 Aпред = 6 205 руб.; Aслед = 21 549 руб.; Xпред = 100 тыс. руб.; Xслед = 500 тыс. руб.; X = 234.0935 тыс. руб.; Количество = 1; | J38: (Апред + (Аслед - Апред) / (Xслед - Xпред) * (X - Xпред)) * Количество * Ктек (6 205 руб. + (21 549 руб. - 6 205 руб.) / (500 000 руб. - 100 000 руб.) * (234 093.5 руб. - 100 000 руб.)) * 1 * 1.25 | M38: 14186.03 | O38: Составление и оформление программы инженерно-геодезических изысканий в соответствии с требованиями документов по стандартизации.
A39: 3.4 | B39: Составление технического отчета по результатам выполнения работ по ИГДИ при общей стоимости полевых и камеральных работ, определенной по показателям затрат, приведенным в НЗ, тысяч рублей: | G39: НЗ 11.16_0-10-81(1) Таблица 81 п. 1 Aпред = 19 000 руб.; Aслед = 50 000 руб.; Xпред = 100 тыс. руб.; Xслед = 500 тыс. руб.; X = 234.0935 тыс. руб.; Количество = 1; | J39: (Апред + (Аслед - Апред) / (Xслед - Xпред) * (X - Xпред)) * Количество * Ктек (19 000 руб. + (50 000 руб. - 19 000 руб.) / (500 000 руб. - 100 000 руб.) * (234 093.5 руб. - 100 000 руб.)) * 1 * 1.25 | M39: 36740.31 | O39: Результат работ
B40: Итого по разделу III | M40: =ROUND(SUM($M$36:$M$39),2) -> 173609.01
B41: Всего по разделу III | M41: =ROUND(($M$40),2) -> 173609.01
A42: 4 | B42: Итого по смете: | M42: =ROUND($M$27+$M$34+$M$41,2) -> 573480.89
A43: 5 | B43: Всего по смете: | M43: =ROUND(($M$42),2) -> 573480.89
A45: Всего по смете (руб.): | F45: =$M$43 -> 573480.89
A47: Составил
D48: должность, подпись (инициалы, фамилия)
...

Sheet ИГИ
A1: Адепт: Проект v 2026.4.1 © ООО"Адепт" | E1: форма №2П, 1/пр
A3: СМЕТА №2-из
A4: на инженерно-геологические изыскания
A6: Инженерно-геологические изыскания
A7: (наименование вида инженерных изысканий)
A9: Кампус ВТРК "Мамисон"
A10: (наименование объекта капитального строительства)
A12: Сметный расчет составлен по следующим документам: НЗ №281/пр. Работы по инженерно-геологическим изысканиям (ИГИ). 2025 г.
A14: Сметный расчет составлен в ценах II кв. 2026 г.
A16: № пп | B16: Наименование работ и затрат | F16: Обоснование стоимости | H16: Ед.изм. | I16: Кол-во | J16: Расчет стоимости | M16: Сметная стоимость в уровне цен, сложившемся на день составления сметной документации, руб. | O16: Примечания
A17: 1 | B17: 2 | F17: 3 | H17: 4 | I17: 5 | J17: 6 | M17: 7 | O17: 8
B18: I. Полевые работы
A19: 1.1 | B19: Рекогносцировочное обследование: в условиях производства полевых работ категории III. площадь участка до 5 гектаров включительно. | F19: НЗ 11.20_0-3-12-11 Таблица 12 п.11 ПЗ1п = 10 127 руб.; ПЗ2п = 7 233 руб.; Sреког = 1 (гектар); Количество = 1; | H19: гектар | I19: 1 | J19: (ПЗ1п + ПЗ2п * Sреког) * Количество * Ктек (10 127 руб. + 7 233 руб. * 1) * 1 * 1.25 | M19: =ROUND((10127 + 7233 * 1) * 1 * 1.25, 2) -> 21700
B20: Коэффициенты
B21: инд.2кв.2026г.к 01.01.2024 на инж.из. | F21: Ктек = 1.25 Письмо Минстроя России от 08.04.2026 №20212-ИФ/09
A22: 1.2 | B22: Проходка инженерно-геологических скважин колонковым способом бурения: диаметром до 160 (ста шестидесяти) миллиметров включительно при глубине скважины до 15 (пятнадцати) метров включительно. в грунтах категории VI. | F22: НЗ 11.20_0-4-14-6 Таблица 14 п.6 A = 5764 руб.; Количество = 151 (погонный метр); | H22: погонный метр | I22: 151 | J22: A * Количество * Ктек 5764 руб. * 151 * 1.25 | M22: =ROUND(5764 * 151 * 1.25, 2) -> 1087955
B23: Коэффициенты
B24: инд.2кв.2026г.к 01.01.2024 на инж.из. | F24: Ктек = 1.25 Письмо Минстроя России от 08.04.2026 №20212-ИФ/09
A25: 1.3 | B25: Крепление инженерно-геологических скважин обсадными трубами | F25: НЗ 11.20_0-4-25-1 Таблица 25 п.1 A = 1536 руб.; Количество = 115 (погонный метр); | H25: погонный метр | I25: 115 | J25: A * Количество * Ктек 1536 руб. * 115 * 1.25 | M25: =ROUND(1536 * 115 * 1.25, 2) -> 220800
B26: Коэффициенты
B27: инд.2кв.2026г.к 01.01.2024 на инж.из. | F27: Ктек = 1.25 Письмо Минстроя России от 08.04.2026 №20212-ИФ/09
A28: 1.4 | B28: Проведение гидрогеологических исследований первого от поверхности земли подземного водоносного горизонта в инженерно-геологических скважинах | F28: НЗ 11.20_0-4-26-1 Таблица 26 п.1 A = 983 руб.; Количество = 15 (одно исследование в одной скважине); | H28: одно исследование в одной скважине | I28: 15 | J28: A * Количество * Ктек 983 руб. * 15 * 1.25 | M28: =ROUND(983 * 15 * 1.25, 2) -> 18431.25
B29: Коэффициенты
B30: инд.2кв.2026г.к 01.01.2024 на инж.из. | F30: Ктек = 1.25 Письмо Минстроя России от 08.04.2026 №20212-ИФ/09
B31: Итого по разделу I | M31: =ROUND(SUM($M$19:$M$28),2) -> 1348886.2
B32: Всего по разделу I | M32: =ROUND(($M$31),2) -> 1348886.2
B33: II. Лабораторные работы
A34: Песчаные и крупнообломочные грунты
A35: 2.1 | B35: Приемка, регистрация, консервация образца грунта с отбором части для хранения в архиве | F35: НЗ 11.20_0-7-56-1 Таблица 56 п.1 A = 459 руб.; Количество = 20 (один образец грунта); | H35: один образец грунта | I35: 20 | J35: A * Количество * Ктек 459 руб. * 20 * 1.25 | M35: =ROUND(459 * 20 * 1.25, 2) -> 11475
B36: Коэффициенты
B37: инд.2кв.2026г.к 01.01.2024 на инж.из. | F37: Ктек = 1.25 Письмо Минстроя России от 08.04.2026 №20212-ИФ/09
A38: 2.2 | B38: Отбор проб из образца грунта для определения физических свойств | F38: НЗ 11.20_0-7-56-2 Таблица 56 п.2 A = 335 руб.; Количество = 20 (один образец грунта); | H38: один образец грунта | I38: 20 | J38: A * Количество * Ктек 335 руб. * 20 * 1.25 | M38: =ROUND(335 * 20 * 1.25, 2) -> 8375
B39: Коэффициенты
B40: инд.2кв.2026г.к 01.01.2024 на инж.из. | F40: Ктек = 1.25 Письмо Минстроя России от 08.04.2026 №20212-ИФ/09
A41: 2.3 | B41: Описание образца грунта при проведении лабораторных определений физических свойств | F41: НЗ 11.20_0-7-56-3 Таблица 56 п.3 A = 141 руб.; Количество = 20 (один образец грунта); | H41: один образец грунта | I41: 20 | J41: A * Количество * Ктек 141 руб. * 20 * 1.25 | M41: =ROUND(141 * 20 * 1.25, 2) -> 3525
B42: Коэффициенты
B43: инд.2кв.2026г.к 01.01.2024 на инж.из. | F43: Ктек = 1.25 Письмо Минстроя России от 08.04.2026 №20212-ИФ/09
A44: 2.4 | B44: Лабораторные определения физических свойств песчаных, крупнообломочных, глинистых, органических, органо-минеральных, скальных и полускальных грунтов. Определение влажности грунта методом высушивания до постоянной массы | F44: НЗ 11.20_0-7-57-1 Таблица 57 п.1 A = 229 руб.; Количество = 20 (одно определение); | H44: одно определение | I44: 20 | J44: A * Количество * Ктек 229 руб. * 20 * 1.25 | M44: =ROUND(229 * 20 * 1.25, 2) -> 5725
B45: Коэффициенты
B46: инд.2кв.2026г.к 01.01.2024 на инж.из. | F46: Ктек = 1.25 Письмо Минстроя России от 08.04.2026 №20212-ИФ/09
...

Sheet ИГМИ
A1: Адепт: Проект v 2026.3.0 © ООО"Адепт" | E1: форма №2П, МП 2004г. от 14.05.2026г.
A3: Смета №3-из
A4: на инженерно-гидрометеорологические изыскания
A6: По объекту: | F6: Кампус ВТРК "Мамисон"
A8: Наименование объекта изысканий: | F8: Инженерно-гидрометеорологические изыскания
A10: Заказчик:
A12: Подрядчик:
A14: Сметный расчет составлен по следующим документам: Справочник базовых цен на инженерные изыскания для строительства. Инженерно-гидрографические работы. Инженерно-гидрометеорологические изыскания на реках. 2000 г.
A16: Сметный расчет составлен в ценах II кв. 2026 г.
A18: № пп | B18: Наименование работ и затрат | F18: Обоснование стоимости | J18: Расчет стоимости | M18: Стоимость, руб. | O18: Примечания
A19: 1 | B19: 2 | F19: 3 | J19: 4 | M19: 5 | O19: 6
A20: 1 | B20: Раздел | F20: Полевые работы
A21: 1.1 | B21: Рекогносцировочное обследование бассейна реки. Категория сложности III. | F21: СБЦи5.3_0-8-43-2-3-1 Таблица 43 п.2 A = 24 руб.; Количество = 0.2 (1 км маршрута); | J21: A * Количество 24 руб. * 0.2 | M21: =ROUND(24 * 0.2, 2) -> 4.8
A22: 1.2 | B22: Фотоработы. Ширина реки, м: до 20. | F22: СБЦи5.3_0-10-48-15-1 Таблица 48 п.15 A = 7 руб.; Количество = 5 (1 снимок); | J22: A * Количество 7 руб. * 5 | M22: =ROUND(7 * 5, 2) -> 35
A23: 1.3 | B23: Итого Полевые работы | M23: =ROUND(SUM($M$21:$M$22),2) -> 39.8
A24: 1.4 | B24: Всего Полевые работы | M24: =ROUND(($M$23),2) -> 39.8
A25: 2 | B25: Раздел | F25: Камеральные работы
A26: 2.1 | B26: Рекогносцировочное обследование бассейна реки. Категория сложности III. | F26: СБЦи5.3_0-8-43-2-3-2 Таблица 43 п.2 A = 8 руб.; Количество = 0.2 (1 км маршрута); | J26: A * Количество 8 руб. * 0.2 | M26: =ROUND(8 * 0.2, 2) -> 1.6
A27: 2.2 | B27: Составление таблицы гидрологической изученности бассейна реки при числе пунктов наблюдений: до 50. | F27: СБЦи5.3_0-11-51-1 Таблица 51 п.1 A = 105 руб.; Количество = 1 (1 таблица); | J27: A * Количество 105 руб. * 1 | M27: =ROUND(105 * 1, 2) -> 105
