Workbook

Sheet ПЗ
A1: ПОЯСНИТЕЛЬНАЯ ЗАПИСКА
A2: К РАСЧЕТУ НАЧАЛЬНОЙ МАКСИМАЛЬНОЙ ЦЕНЫ ДОГОВОРА
A3: на выполнение подрядных работ по строительству объекта:
A4: Выполнение проектно-изыскательских работ на реконструкцию снегоудерживающих сооружений ВТРК «Эльбрус». Этап 1
A5: Начальная максимальная цена договора (далее - НМЦД) определена в соответствии с требованием Федерального Закона от 05.04.2013 г. № 44 "О контрактной системе в сфере закупок товаров, работ, услуг для обеспечения государственных и муниципальных нужд", Порядком определения начальной (максимальной) цены контракта, цены контракта, заключаемого с единственным поставщиком (подрядчиком, исполнителем), начальной цены единицы товара, работы, услуги при осуществлении закупок в сфере градостроительной деятельности (за исключением территориального планирования), утвержденным приказом Министерства строительства и жилищно-коммунального хозяйства Российской Федерации от 23 декабря 2019 г. № 841/пр.
A6: Расчет стоимости строительства выполнен проектно- сметным методом.
A7: Цена работ учитывает все затраты Подрядчика, включая стоимость проектных работ стадии "Рабочая документация", стоимость приобретения материалов, заготовительно-складские расходы, стоимость строительно-монтажных работ и прочих затрат согласно перечню затрат, учтенному сводным сметным расчетом стоимости строительства, накладных расходов, сметной прибыли.
A8: Описание метода расчета стоимости проектных работ и строительства
A9: Для расчета цены строительства использован сводный сметный расчет, локальные сметные расчеты и расчеты прочих затрат в ценах 4 квартала 2025 года, получившие положительное заключение ФАУ "Главгосэкспертиза России" от 15.10.2026 № 07-1-1-3-051344-2026.
A10: В расчете учтены затраты на временные здания и сооружения в размере 3,1*0,8% от суммы строительно-монтажных работ, зимнее удорожание в размере 0,9% от суммы строительно-монтажных работ, непредвиденные затраты в размере согласно сводному сметному расчету 2 % от итоговой суммы затрат по смете контракта и возврат от разборки временных зданий и сооружений в размере 15% от суммы затрат на их возведение.
A11: Индекс фактической инфляции для пересчета сметной стоимости из уровня цен утверждения проектной документации в уровень цен на дату определения НМЦК определен с применением официальной статистической информации об индексах цен на продукцию (затраты, услуги) инвестиционного назначения по видам экономической деятельности (строительство), публикуемой Федеральной службой государственной статистики для соответствующего периода в целом по Российской Федерации.
A12: Индексы прогнозной инфляции для пересчета из уровня цен на дату определения НМЦК в уровень цен соответствующего периода реализации проекта определены с применением индексов-дефляторов Министерства экономического развития Российской Федерации по строке "Инвестиции в основной капитал" согласно письму от 30.09.2026 № 36459-ПК/Д03и.
... A14: Итоговая начальная максимальная цена работ составляет:
B15: =НМЦ!$E$14 -> 4.300704e+09 | C15: рублей с учетом НДС
A17: Разработал:
A19: Начальник отдела ценообразования Управления проектов Департамента развития инфраструктуры | C19: А.Ю. Татаринов
A21: Проверил:
A23: Заместитель директора департамента по ценообразованию и сметному регулированию Департамента развития инфраструктуры | C23: Е.А. Татаринова
A25: Согласовал:
A27: Директор Департамента развития инфраструктуры | C27: И.В. Евдокимов

Sheet Протокол
A1: Протокол
A2: начальной (максимальной) цены контракта
A3: на выполнение подрядных работ по строительству объекта:
A4: Выполнение проектно-изыскательских работ на реконструкцию снегоудерживающих сооружений ВТРК «Эльбрус». Этап 1
A6: Начальная (максимальная ) цена контракта составляет | G6: =НМЦ!$E$14 -> 4.300704e+09 | H6: руб. с учетом НДС
A7: =CONCATENATE("(",[1]!СуммаПрописью(G6),")") -> (Четыре миллиарда триста миллионов семьсот три тысячи девятьсот семьдесят четыре рубля 25 копеек)
A8: Начальная (максимальная ) цена контракта включает в себя расходы:
A9: 1. | B9: Разработка рабочей документации;
A10: 2. | B10: Затраты по разбивке основных осей;
A11: 3. | B11: Затраты на оплату труда рабочих-строителей и рабочих, обслуживающих строительные машины и механизмы;
A12: 4. | B12: Затраты на эксплуатацию машин и механизмов;
A13: 5. | B13: Затраты на приобретение материалов, изделий и конструкций;
A14: 6. | B14: Накладные расходы;
A15: 7. | B15: Сметную прибыль;
A16: 8. | B16: Затраты на строительство временных зданий и сооружений (ВЗИС) с учетом возврата от разборки ВЗИС в размере 15 % от суммы затрат на их возведение;
A17: 9. | B17: Затраты на зимнее удорожание;
A18: 10. | B18: Затраты по перевозке работников к месту работы и обратно автомобильным транспортом;
A19: 11. | B19: Расходы, связанные с командировками рабочих, привлекаемых для выполнения строительства, от места, определенного в проектной документации, до территории строительства и обратно;
A20: 12. | B20: Определение разницы в стоимости электроэнергии, получаемой от передвижных источников электроснабжения
... A29: 21. | B29: Налог на добавленную стоимость в размере 22%.
A31: Приложение:
A32: Расчет начальной (максимальной) цены контракта.
A35: Разработал:
A36: =ПЗ!$A$19 -> Начальник отдела ценообразования Управления проектов Департамента развития инфраструктуры | M36: =ПЗ!$C$19 -> А.Ю. Татаринов
A38: Проверил:
A39: =ПЗ!$A$23 -> Заместитель директора департамента по ценообразованию и сметному регулированию Департамента развития инфраструктуры | M39: =ПЗ!$C$23 -> Е.А. Татаринова
A41: Согласовал:
A42: =ПЗ!$A$27 -> Директор Департамента развития инфраструктуры | M42: =ПЗ!$C$27 -> И.В. Евдокимов

Sheet НМЦ
A1: РАСЧЕТ НАЧАЛЬНОЙ МАКСИМАЛЬНОЙ ЦЕНЫ ДОГОВОРА
A2: на выполнение подрядных работ по строительству объекта:
A3: Выполнение проектно-изыскательских работ на реконструкцию снегоудерживающих сооружений ВТРК «Эльбрус». Этап 1
A5: Продолжительность работ | C5: =ROUND((C7-C6)/30.5,1) -> 21.6
A6: Начало работ - | C6: =График!$F$13 -> 46397
A7: Окончание работ - | C7: =График!$G$18 -> 47056
A9: № п.п. | B9: Перечень видов работ | C9: Стоимость в прогнозных ценах, руб.
C10: без учета НДС | D10: НДС-22 % | E10: с учетом НДС
A11: 1 | B11: 2 | C11: 3 | D11: 4 | E11: 5
A12: 1 | B12: Разработка рабочей документации | C12: =НМЦК!$Q$14 -> 1.4332773e+08 | D12: =C12*0.22 -> 31532101 | E12: =C12+D12 -> 1.7485983e+08
A13: 2 | B13: Строительство (строительные работы, прочие затраты) | C13: =НМЦК!$Q$17 -> 3.3818395e+09 | D13: =C13*0.22 -> 7.4400468e+08 | E13: =C13+D13 -> 4.1258441e+09
B14: ВСЕГО | C14: =C12+C13 -> 3.5251672e+09 | D14: =D12+D13 -> 7.7553678e+08 | E14: =E12+E13 -> 4.300704e+09
A17: Разработал:
A18: =ПЗ!$A$19 -> Начальник отдела ценообразования Управления проектов Департамента развития инфраструктуры | E18: =ПЗ!$C$19 -> А.Ю. Татаринов
A20: Проверил:
A21: =ПЗ!$A$23 -> Заместитель директора департамента по ценообразованию и сметному регулированию Департамента развития инфраструктуры | E21: =ПЗ!$C$23 -> Е.А. Татаринова
A23: Согласовал:
A24: =ПЗ!$A$27 -> Директор Департамента развития инфраструктуры | E24: =ПЗ!$C$27 -> И.В. Евдокимов

Sheet Смета контракта
B1: Смета контракта
B3: Выполнение проектно-изыскательских работ на реконструкцию снегоудерживающих сооружений ВТРК «Эльбрус». Этап 1
B4: (наименование объекта)
A6: Ур. (для нумерации позиций) | B6: № п/п | C6: Номера сметных расчетов (смет) и позиций в сметных расчетах (сметах), относящиеся к соответствующим конструктивным решениям (элементам), комплексам (видам) работ | D6: Наименование конструктивных решений (элементов), комплексов (видов) работ | E6: Единица измерения | F6: Количество (объем работ) | G6: Цена, руб | I6: Коэффициент конкурсного снижения | J6: Цена, руб
G7: на единицу измерения | H7: Всего | I7: 1 | J7: на единицу измерения | K7: Всего
B8: 1 | C8: 2 | D8: 3 | E8: 4 | F8: 5
A9: 1 | B9: 1 | D9: Разработка рабочей документации | H9: =SUM(H10:H11) -> 1.4332773e+08 | K9: =SUM(K10:K11) -> 1.4332773e+08
A10: 2 | B10: =IF(A10>OFFSET(A10,-1,0),OFFSET(B10,-1,0)&"."&1,LEFT(OFFSET(B10,-1,0),SEARCH("^^",SUBSTITUTE("."&OFFSET(B10,-1,0),".","^^",A10))-1)&1--MID(OFFSET(B10,-1,0),SEARCH("^^",SUBSTITUTE("."&OFFSET(B10,-1,0),".","^^",A10)),SEARCH("^^",SUBSTITUTE(OFFSET(B10,-1,0)&".",".","^^",A10))-SEARCH("^^",SUBSTITUTE("."&OFFSET(B10,-1,0),".","^^",A10)))) -> 1.1 | C10: Сводная смета ПИР | D10: Рабочая документация | E10: комплекс | F10: 1 | G10: =НМЦК!Q15 -> 1.4051738e+08 | H10: =F10*G10 -> 1.4051738e+08 | I10: =$I$7 -> 1 | J10: =G10*I10 -> 1.4051738e+08 | K10: =F10*J10 -> 1.4051738e+08
A11: 2 | B11: =IF(A11>OFFSET(A11,-1,0),OFFSET(B11,-1,0)&"."&1,LEFT(OFFSET(B11,-1,0),SEARCH("^^",SUBSTITUTE("."&OFFSET(B11,-1,0),".","^^",A11))-1)&1--MID(OFFSET(B11,-1,0),SEARCH("^^",SUBSTITUTE("."&OFFSET(B11,-1,0),".","^^",A11)),SEARCH("^^",SUBSTITUTE(OFFSET(B11,-1,0)&".",".","^^",A11))-SEARCH("^^",SUBSTITUTE("."&OFFSET(B11,-1,0),".","^^",A11)))) -> 1.2 | C11: Приказ от 4.08.2020 № 421/пр п.179 | D11: Непредвиденные затраты для объектов капитального строительства непроизводственного назначения - 2% | E11: комплекс | F11: 1 | G11: =G10*2% -> 2810347.7 | H11: =F11*G11 -> 2810347.7 | J11: =J10*2% -> 2810347.7 | K11: =K10*2% -> 2810347.7
A12: 1 | B12: =IF(A12>OFFSET(A12,-1,0),OFFSET(B12,-1,0)&"."&1,LEFT(OFFSET(B12,-1,0),SEARCH("^^",SUBSTITUTE("."&OFFSET(B12,-1,0),".","^^",A12))-1)&1--MID(OFFSET(B12,-1,0),SEARCH("^^",SUBSTITUTE("."&OFFSET(B12,-1,0),".","^^",A12)),SEARCH("^^",SUBSTITUTE(OFFSET(B12,-1,0)&".",".","^^",A12))-SEARCH("^^",SUBSTITUTE("."&OFFSET(B12,-1,0),".","^^",A12)))) -> 2 | D12: Строительство | H12: =SUM(H13:H18,H22:H28) -> 3.3818395e+09 | K12: =SUM(K13:K18,K22:K28) -> 3.3818395e+09
A13: 2 | B13: =IF(A13>OFFSET(A13,-1,0),OFFSET(B13,-1,0)&"."&1,LEFT(OFFSET(B13,-1,0),SEARCH("^^",SUBSTITUTE("."&OFFSET(B13,-1,0),".","^^",A13))-1)&1--MID(OFFSET(B13,-1,0),SEARCH("^^",SUBSTITUTE("."&OFFSET(B13,-1,0),".","^^",A13)),SEARCH("^^",SUBSTITUTE(OFFSET(B13,-1,0)&".",".","^^",A13))-SEARCH("^^",SUBSTITUTE("."&OFFSET(B13,-1,0),".","^^",A13)))) -> 2.1 | C13: Смета №1 | D13: Затраты по разбивке основных осей | E13: комплекс | F13: 1 | G13: =НМЦК!Q18 -> 2228999.2 | H13: =F13*G13 -> 2228999.2 | I13: =$I$7 -> 1 | J13: =G13*I13 -> 2228999.2 | K13: =F13*J13 -> 2228999.2
A14: 2 | B14: =IF(A14>OFFSET(A14,-1,0),OFFSET(B14,-1,0)&"."&1,LEFT(OFFSET(B14,-1,0),SEARCH("^^",SUBSTITUTE("."&OFFSET(B14,-1,0),".","^^",A14))-1)&1--MID(OFFSET(B14,-1,0),SEARCH("^^",SUBSTITUTE("."&OFFSET(B14,-1,0),".","^^",A14)),SEARCH("^^",SUBSTITUTE(OFFSET(B14,-1,0)&".",".","^^",A14))-SEARCH("^^",SUBSTITUTE("."&OFFSET(B14,-1,0),".","^^",A14)))) -> 2.2 | C14: ЛСР-01-01-01 | D14: Демонтажные работы | E14: комплекс | F14: 1 | G14: =НМЦК!Q19 -> 21000777 | H14: =F14*G14 -> 21000777 | I14: =$I$7 -> 1 | J14: =G14*I14 -> 21000777 | K14: =F14*J14 -> 21000777
A15: 2 | B15: =IF(A15>OFFSET(A15,-1,0),OFFSET(B15,-1,0)&"."&1,LEFT(OFFSET(B15,-1,0),SEARCH("^^",SUBSTITUTE("."&OFFSET(B15,-1,0),".","^^",A15))-1)&1--MID(OFFSET(B15,-1,0),SEARCH("^^",SUBSTITUTE("."&OFFSET(B15,-1,0),".","^^",A15)),SEARCH("^^",SUBSTITUTE(OFFSET(B15,-1,0)&".",".","^^",A15))-SEARCH("^^",SUBSTITUTE("."&OFFSET(B15,-1,0),".","^^",A15)))) -> 2.3 | C15: ЛСР-01-02-01 | D15: Рекультивация временных дорог и разворотных площадок ведущих к территории участка реконструкции снегоудерживающих сооружений | E15: комплекс | F15: 1 | G15: =НМЦК!Q20 -> 14165 | H15: =F15*G15 -> 14165 | I15: =$I$7 -> 1 | J15: =G15*I15 -> 14165 | K15: =F15*J15 -> 14165
A16: 2 | B16: =IF(A16>OFFSET(A16,-1,0),OFFSET(B16,-1,0)&"."&1,LEFT(OFFSET(B16,-1,0),SEARCH("^^",SUBSTITUTE("."&OFFSET(B16,-1,0),".","^^",A16))-1)&1--MID(OFFSET(B16,-1,0),SEARCH("^^",SUBSTITUTE("."&OFFSET(B16,-1,0),".","^^",A16)),SEARCH("^^",SUBSTITUTE(OFFSET(B16,-1,0)&".",".","^^",A16))-SEARCH("^^",SUBSTITUTE("."&OFFSET(B16,-1,0),".","^^",A16)))) -> 2.4 | C16: ЛСР-02-01-01 | D16: Инженерная защита территории. Снегоудерживающие барьеры. Этап 1. | E16: комплекс | F16: 1 | G16: =НМЦК!Q21 -> 3.1556285e+09 | H16: =F16*G16 -> 3.1556285e+09 | I16: =$I$7 -> 1 | J16: =G16*I16 -> 3.1556285e+09 | K16: =F16*J16 -> 3.1556285e+09
A17: 2 | B17: =IF(A17>OFFSET(A17,-1,0),OFFSET(B17,-1,0)&"."&1,LEFT(OFFSET(B17,-1,0),SEARCH("^^",SUBSTITUTE("."&OFFSET(B17,-1,0),".","^^",A17))-1)&1--MID(OFFSET(B17,-1,0),SEARCH("^^",SUBSTITUTE("."&OFFSET(B17,-1,0),".","^^",A17)),SEARCH("^^",SUBSTITUTE(OFFSET(B17,-1,0)&".",".","^^",A17))-SEARCH("^^",SUBSTITUTE("."&OFFSET(B17,-1,0),".","^^",A17)))) -> 2.5 | C17: СР-1 | D17: Затраты по перевозке работников к месту работы и обратно автомобильным транспортом | E17: комплекс | F17: 1 | G17: =НМЦК!Q22 -> 4576723.7 | H17: =F17*G17 -> 4576723.7 | I17: =$I$7 -> 1 | J17: =G17*I17 -> 4576723.7 | K17: =F17*J17 -> 4576723.7
A18: 2 | B18: =IF(A18>OFFSET(A18,-1,0),OFFSET(B18,-1,0)&"."&1,LEFT(OFFSET(B18,-1,0),SEARCH("^^",SUBSTITUTE("."&OFFSET(B18,-1,0),".","^^",A18))-1)&1--MID(OFFSET(B18,-1,0),SEARCH("^^",SUBSTITUTE("."&OFFSET(B18,-1,0),".","^^",A18)),SEARCH("^^",SUBSTITUTE(OFFSET(B18,-1,0)&".",".","^^",A18))-SEARCH("^^",SUBSTITUTE("."&OFFSET(B18,-1,0),".","^^",A18)))) -> 2.6 | C18: СР-2 | D18: Расходы, связанные с командировками рабочих, привлекаемых для выполнения строительства, от места, определенного в проектной документации, до территории строительства и обратно. | E18: комплекс | F18: 1 | G18: =SUM(G19:G21) -> 35941316 | H18: =F18*G18 -> 35941316 | I18: =$I$7 -> 1 | J18: =SUM(J19:J21) -> 35941316 | K18: =SUM(K19:K21) -> 35941316
A19: 3 | B19: =IF(A19>OFFSET(A19,-1,0),OFFSET(B19,-1,0)&"."&1,LEFT(OFFSET(B19,-1,0),SEARCH("^^",SUBSTITUTE("."&OFFSET(B19,-1,0),".","^^",A19))-1)&1--MID(OFFSET(B19,-1,0),SEARCH("^^",SUBSTITUTE("."&OFFSET(B19,-1,0),".","^^",A19)),SEARCH("^^",SUBSTITUTE(OFFSET(B19,-1,0)&".",".","^^",A19))-SEARCH("^^",SUBSTITUTE("."&OFFSET(B19,-1,0),".","^^",A19)))) -> 2.6.1 | C19: СР-2 п.1 | D19: Затраты на проезд работников от пункта сбора (г. Нальчик) до места временного проживания (с. Терскол) и обратно | E19: комплекс | F19: 1 | G19: =НМЦК!Q24 -> 771730.09 | H19: =F19*G19 -> 771730.09 | I19: =$I$7 -> 1 | J19: =G19*I19 -> 771730.09 | K19: =F19*J19 -> 771730.09
A20: 3 | B20: =IF(A20>OFFSET(A20,-1,0),OFFSET(B20,-1,0)&"."&1,LEFT(OFFSET(B20,-1,0),SEARCH("^^",SUBSTITUTE("."&OFFSET(B20,-1,0),".","^^",A20))-1)&1--MID(OFFSET(B20,-1,0),SEARCH("^^",SUBSTITUTE("."&OFFSET(B20,-1,0),".","^^",A20)),SEARCH("^^",SUBSTITUTE(OFFSET(B20,-1,0)&".",".","^^",A20))-SEARCH("^^",SUBSTITUTE("."&OFFSET(B20,-1,0),".","^^",A20)))) -> 2.6.2 | C20: СР-2 п.2 | D20: Затраты на проживание рабочих | E20: комплекс | F20: 1 | G20: =НМЦК!Q25 -> 28833586 | H20: =F20*G20 -> 28833586 | I20: =$I$7 -> 1 | J20: =G20*I20 -> 28833586 | K20: =F20*J20 -> 28833586
A21: 3 | B21: =IF(A21>OFFSET(A21,-1,0),OFFSET(B21,-1,0)&"."&1,LEFT(OFFSET(B21,-1,0),SEARCH("^^",SUBSTITUTE("."&OFFSET(B21,-1,0),".","^^",A21))-1)&1--MID(OFFSET(B21,-1,0),SEARCH("^^",SUBSTITUTE("."&OFFSET(B21,-1,0),".","^^",A21)),SEARCH("^^",SUBSTITUTE(OFFSET(B21,-1,0)&".",".","^^",A21))-SEARCH("^^",SUBSTITUTE("."&OFFSET(B21,-1,0),".","^^",A21)))) -> 2.6.3 | C21: СР-2 п.2 | D21: Суточные | E21: комплекс | F21: 1 | G21: =НМЦК!Q26 -> 6336000 | H21: =F21*G21 -> 6336000 | I21: =$I$7 -> 1 | J21: =G21*I21 -> 6336000 | K21: =F21*J21 -> 6336000
A22: 2 | B22: =IF(A22>OFFSET(A22,-1,0),OFFSET(B22,-1,0)&"."&1,LEFT(OFFSET(B22,-1,0),SEARCH("^^",SUBSTITUTE("."&OFFSET(B22,-1,0),".","^^",A22))-1)&1--MID(OFFSET(B22,-1,0),SEARCH("^^",SUBSTITUTE("."&OFFSET(B22,-1,0),".","^^",A22)),SEARCH("^^",SUBSTITUTE(OFFSET(B22,-1,0)&".",".","^^",A22))-SEARCH("^^",SUBSTITUTE("."&OFFSET(B22,-1,0),".","^^",A22)))) -> 2.7 | C22: СР-3 | D22: Определение разницы в стоимости электроэнергии, получаемой от передвижных источников электроснабжения | E22: комплекс | F22: 1 | G22: =НМЦК!Q27 -> 102671.72 | H22: =F22*G22 -> 102671.72 | I22: =$I$7 -> 1 | J22: =G22*I22 -> 102671.72 | K22: =F22*J22 -> 102671.72
A23: 2 | B23: =IF(A23>OFFSET(A23,-1,0),OFFSET(B23,-1,0)&"."&1,LEFT(OFFSET(B23,-1,0),SEARCH("^^",SUBSTITUTE("."&OFFSET(B23,-1,0),".","^^",A23))-1)&1--MID(OFFSET(B23,-1,0),SEARCH("^^",SUBSTITUTE("."&OFFSET(B23,-1,0),".","^^",A23)),SEARCH("^^",SUBSTITUTE(OFFSET(B23,-1,0)&".",".","^^",A23))-SEARCH("^^",SUBSTITUTE("."&OFFSET(B23,-1,0),".","^^",A23)))) -> 2.8 | C23: раздел ООС Таблица 6.1.1 | D23: Расчет платы за загрязнение атмосферного воздуха на период строительства | E23: комплекс | F23: 1 | G23: =НМЦК!Q28 -> 8809.71 | H23: =F23*G23 -> 8809.71 | I23: =$I$7 -> 1 | J23: =G23*I23 -> 8809.71 | K23: =F23*J23 -> 8809.71
A24: 2 | B24: =IF(A24>OFFSET(A24,-1,0),OFFSET(B24,-1,0)&"."&1,LEFT(OFFSET(B24,-1,0),SEARCH("^^",SUBSTITUTE("."&OFFSET(B24,-1,0),".","^^",A24))-1)&1--MID(OFFSET(B24,-1,0),SEARCH("^^",SUBSTITUTE("."&OFFSET(B24,-1,0),".","^^",A24)),SEARCH("^^",SUBSTITUTE(OFFSET(B24,-1,0)&".",".","^^",A24))-SEARCH("^^",SUBSTITUTE("."&OFFSET(B24,-1,0),".","^^",A24)))) -> 2.9 | C24: раздел ООС Таблица 6.1.2 | D24: Расчет платы за размещение отходов на период строительства, включая демонтажные работы, в пределах лимита | E24: комплекс | F24: 1 | G24: =НМЦК!Q29 -> 691.83 | H24: =F24*G24 -> 691.83 | I24: =$I$7 -> 1 | J24: =G24*I24 -> 691.83 | K24: =F24*J24 -> 691.83
A25: 2 | B25: =IF(A25>OFFSET(A25,-1,0),OFFSET(B25,-1,0)&"."&1,LEFT(OFFSET(B25,-1,0),SEARCH("^^",SUBSTITUTE("."&OFFSET(B25,-1,0),".","^^",A25))-1)&1--MID(OFFSET(B25,-1,0),SEARCH("^^",SUBSTITUTE("."&OFFSET(B25,-1,0),".","^^",A25)),SEARCH("^^",SUBSTITUTE(OFFSET(B25,-1,0)&".",".","^^",A25))-SEARCH("^^",SUBSTITUTE("."&OFFSET(B25,-1,0),".","^^",A25)))) -> 2.10 | C25: раздел ООС Таблица 6.1.3 | D25: Расчет платы за проведение производственно-экологического контроля | E25: комплекс | F25: 1 | G25: =НМЦК!Q30 -> 26916.2 | H25: =F25*G25 -> 26916.2 | I25: =$I$7 -> 1 | J25: =G25*I25 -> 26916.2 | K25: =F25*J25 -> 26916.2
A26: 2 | B26: =IF(A26>OFFSET(A26,-1,0),OFFSET(B26,-1,0)&"."&1,LEFT(OFFSET(B26,-1,0),SEARCH("^^",SUBSTITUTE("."&OFFSET(B26,-1,0),".","^^",A26))-1)&1--MID(OFFSET(B26,-1,0),SEARCH("^^",SUBSTITUTE("."&OFFSET(B26,-1,0),".","^^",A26)),SEARCH("^^",SUBSTITUTE(OFFSET(B26,-1,0)&".",".","^^",A26))-SEARCH("^^",SUBSTITUTE("."&OFFSET(B26,-1,0),".","^^",A26)))) -> 2.11 | C26: ЛСР-09-01-01 | D26: Расчет затрат на утилизацию строительных отходов | E26: комплекс | F26: 1 | G26: =НМЦК!Q31 -> 11894.54 | H26: =F26*G26 -> 11894.54 | I26: =$I$7 -> 1 | J26: =G26*I26 -> 11894.54 | K26: =F26*J26 -> 11894.54
A27: 2 | B27: =IF(A27>OFFSET(A27,-1,0),OFFSET(B27,-1,0)&"."&1,LEFT(OFFSET(B27,-1,0),SEARCH("^^",SUBSTITUTE("."&OFFSET(B27,-1,0),".","^^",A27))-1)&1--MID(OFFSET(B27,-1,0),SEARCH("^^",SUBSTITUTE("."&OFFSET(B27,-1,0),".","^^",A27)),SEARCH("^^",SUBSTITUTE(OFFSET(B27,-1,0)&".",".","^^",A27))-SEARCH("^^",SUBSTITUTE("."&OFFSET(B27,-1,0),".","^^",A27)))) -> 2.12 | C27: ЛСР-09-02-01 | D27: Перевозка грузов с использованием вертолета Ми-8МТВ-1 | E27: комплекс | F27: 1 | G27: =НМЦК!Q32 -> 95987449 | H27: =F27*G27 -> 95987449 | I27: =$I$7 -> 1 | J27: =G27*I27 -> 95987449 | K27: =F27*J27 -> 95987449
A28: 2 | B28: =IF(A28>OFFSET(A28,-1,0),OFFSET(B28,-1,0)&"."&1,LEFT(OFFSET(B28,-1,0),SEARCH("^^",SUBSTITUTE("."&OFFSET(B28,-1,0),".","^^",A28))-1)&1--MID(OFFSET(B28,-1,0),SEARCH("^^",SUBSTITUTE("."&OFFSET(B28,-1,0),".","^^",A28)),SEARCH("^^",SUBSTITUTE(OFFSET(B28,-1,0)&".",".","^^",A28))-SEARCH("^^",SUBSTITUTE("."&OFFSET(B28,-1,0),".","^^",A28)))) -> 2.13 | C28: Приказ от 4.08.2020 № 421/пр п.179 | D28: Непредвиденные затраты для объектов капитального строительства непроизводственного назначения - 2% | E28: комплекс | F28: 1 | G28: =SUM(G13:G18,G22:G27)*2% -> 66310578 | H28: =SUM(H13:H18,H22:H27)*2% -> 66310578 | J28: =SUM(J13:J18,J22:J27)*2% -> 66310578 | K28: =SUM(K13:K18,K22:K27)*2% -> 66310578
D29: Итого | H29: =H9+H12 -> 3.5251672e+09 | K29: =K9+K12 -> 3.5251672e+09
D30: НДС 22% | H30: =H29*22% -> 7.7553678e+08 | K30: =K29*22% -> 7.7553678e+08
D31: ВСЕГО с НДС | H31: =H29+H30 -> 4.300704e+09 | K31: =K29+K30 -> 4.300704e+09
B34: =ПЗ!$A$23 -> Заместитель директора департамента по ценообразованию и сметному регулированию Департамента развития инфраструктуры | H34: =ПЗ!$C$23 -> Е.А. Татаринова

Sheet ВОР
B1: Ведомость объемов конструктивных решений (элементов) и комплексов (видов) работ
B3: Выполнение проектно-изыскательских работ на реконструкцию снегоудерживающих сооружений ВТРК «Эльбрус». Этап 1
B4: (наименование объекта)
A6: Ур. (для нумерации позиций) | B6: № п/п | C6: Номера сметных расчетов (смет) и позиций в сметных расчетах (сметах), относящиеся к соответствующим конструктивным решениям (элементам), комплексам (видам) работ | D6: Наименование конструктивных решений (элементов), комплексов (видов) работ | E6: Единица измерения | F6: Количество (объем работ)
B7: 1 | C7: 2 | D7: 2 | E7: 3 | F7: 4
A8: 1 | B8: 1 | D8: Разработка рабочей документации
A9: 2 | B9: =IF(A9>OFFSET(A9,-1,0),OFFSET(B9,-1,0)&"."&1,LEFT(OFFSET(B9,-1,0),SEARCH("^^",SUBSTITUTE("."&OFFSET(B9,-1,0),".","^^",A9))-1)&1--MID(OFFSET(B9,-1,0),SEARCH("^^",SUBSTITUTE("."&OFFSET(B9,-1,0),".","^^",A9)),SEARCH("^^",SUBSTITUTE(OFFSET(B9,-1,0)&".",".","^^",A9))-SEARCH("^^",SUBSTITUTE("."&OFFSET(B9,-1,0),".","^^",A9)))) -> 1.1 | C9: Сводная смета ПИР | D9: Рабочая документация | E9: комплекс | F9: 1
A10: 2 | B10: =IF(A10>OFFSET(A10,-1,0),OFFSET(B10,-1,0)&"."&1,LEFT(OFFSET(B10,-1,0),SEARCH("^^",SUBSTITUTE("."&OFFSET(B10,-1,0),".","^^",A10))-1)&1--MID(OFFSET(B10,-1,0),SEARCH("^^",SUBSTITUTE("."&OFFSET(B10,-1,0),".","^^",A10)),SEARCH("^^",SUBSTITUTE(OFFSET(B10,-1,0)&".",".","^^",A10))-SEARCH("^^",SUBSTITUTE("."&OFFSET(B10,-1,0),".","^^",A10)))) -> 1.2 | C10: Приказ от 4.08.2020 № 421/пр п.179 | D10: Непредвиденные затраты для объектов капитального строительства непроизводственного назначения - 2% | E10: комплекс | F10: 1
A11: 1 | B11: =IF(A11>OFFSET(A11,-1,0),OFFSET(B11,-1,0)&"."&1,LEFT(OFFSET(B11,-1,0),SEARCH("^^",SUBSTITUTE("."&OFFSET(B11,-1,0),".","^^",A11))-1)&1--MID(OFFSET(B11,-1,0),SEARCH("^^",SUBSTITUTE("."&OFFSET(B11,-1,0),".","^^",A11)),SEARCH("^^",SUBSTITUTE(OFFSET(B11,-1,0)&".",".","^^",A11))-SEARCH("^^",SUBSTITUTE("."&OFFSET(B11,-1,0),".","^^",A11)))) -> 2 | D11: Строительство
A12: 2 | B12: =IF(A12>OFFSET(A12,-1,0),OFFSET(B12,-1,0)&"."&1,LEFT(OFFSET(B12,-1,0),SEARCH("^^",SUBSTITUTE("."&OFFSET(B12,-1,0),".","^^",A12))-1)&1--MID(OFFSET(B12,-1,0),SEARCH("^^",SUBSTITUTE("."&OFFSET(B12,-1,0),".","^^",A12)),SEARCH("^^",SUBSTITUTE(OFFSET(B12,-1,0)&".",".","^^",A12))-SEARCH("^^",SUBSTITUTE("."&OFFSET(B12,-1,0),".","^^",A12)))) -> 2.1 | C12: Смета №1 | D12: Затраты по разбивке основных осей | E12: комплекс | F12: 1
A13: 2 | B13: =IF(A13>OFFSET(A13,-1,0),OFFSET(B13,-1,0)&"."&1,LEFT(OFFSET(B13,-1,0),SEARCH("^^",SUBSTITUTE("."&OFFSET(B13,-1,0),".","^^",A13))-1)&1--MID(OFFSET(B13,-1,0),SEARCH("^^",SUBSTITUTE("."&OFFSET(B13,-1,0),".","^^",A13)),SEARCH("^^",SUBSTITUTE(OFFSET(B13,-1,0)&".",".","^^",A13))-SEARCH("^^",SUBSTITUTE("."&OFFSET(B13,-1,0),".","^^",A13)))) -> 2.2 | C13: ЛСР-01-01-01 | D13: Демонтажные работы | E13: комплекс | F13: 1
A14: 2 | B14: =IF(A14>OFFSET(A14,-1,0),OFFSET(B14,-1,0)&"."&1,LEFT(OFFSET(B14,-1,0),SEARCH("^^",SUBSTITUTE("."&OFFSET(B14,-1,0),".","^^",A14))-1)&1--MID(OFFSET(B14,-1,0),SEARCH("^^",SUBSTITUTE("."&OFFSET(B14,-1,0),".","^^",A14)),SEARCH("^^",SUBSTITUTE(OFFSET(B14,-1,0)&".",".","^^",A14))-SEARCH("^^",SUBSTITUTE("."&OFFSET(B14,-1,0),".","^^",A14)))) -> 2.3 | C14: ЛСР-01-02-01 | D14: Рекультивация временных дорог и разворотных площадок ведущих к территории участка реконструкции снегоудерживающих сооружений | E14: комплекс | F14: 1
A15: 2 | B15: =IF(A15>OFFSET(A15,-1,0),OFFSET(B15,-1,0)&"."&1,LEFT(OFFSET(B15,-1,0),SEARCH("^^",SUBSTITUTE("."&OFFSET(B15,-1,0),".","^^",A15))-1)&1--MID(OFFSET(B15,-1,0),SEARCH("^^",SUBSTITUTE("."&OFFSET(B15,-1,0),".","^^",A15)),SEARCH("^^",SUBSTITUTE(OFFSET(B15,-1,0)&".",".","^^",A15))-SEARCH("^^",SUBSTITUTE("."&OFFSET(B15,-1,0),".","^^",A15)))) -> 2.4 | C15: ЛСР-02-01-01 | D15: Инженерная защита территории. Снегоудерживающие барьеры. Этап 1. | E15: комплекс | F15: 1
A16: 2 | B16: =IF(A16>OFFSET(A16,-1,0),OFFSET(B16,-1,0)&"."&1,LEFT(OFFSET(B16,-1,0),SEARCH("^^",SUBSTITUTE("."&OFFSET(B16,-1,0),".","^^",A16))-1)&1--MID(OFFSET(B16,-1,0),SEARCH("^^",SUBSTITUTE("."&OFFSET(B16,-1,0),".","^^",A16)),SEARCH("^^",SUBSTITUTE(OFFSET(B16,-1,0)&".",".","^^",A16))-SEARCH("^^",SUBSTITUTE("."&OFFSET(B16,-1,0),".","^^",A16)))) -> 2.5 | C16: СР-1 | D16: Затраты по перевозке работников к месту работы и обратно автомобильным транспортом | E16: комплекс | F16: 1
A17: 2 | B17: =IF(A17>OFFSET(A17,-1,0),OFFSET(B17,-1,0)&"."&1,LEFT(OFFSET(B17,-1,0),SEARCH("^^",SUBSTITUTE("."&OFFSET(B17,-1,0),".","^^",A17))-1)&1--MID(OFFSET(B17,-1,0),SEARCH("^^",SUBSTITUTE("."&OFFSET(B17,-1,0),".","^^",A17)),SEARCH("^^",SUBSTITUTE(OFFSET(B17,-1,0)&".",".","^^",A17))-SEARCH("^^",SUBSTITUTE("."&OFFSET(B17,-1,0),".","^^",A17)))) -> 2.6 | C17: СР-2 | D17: Расходы, связанные с командировками рабочих, привлекаемых для выполнения строительства, от места, определенного в проектной документации, до территории строительства и обратно. | E17: комплекс | F17: 1
A18: 3 | B18: =IF(A18>OFFSET(A18,-1,0),OFFSET(B18,-1,0)&"."&1,LEFT(OFFSET(B18,-1,0),SEARCH("^^",SUBSTITUTE("."&OFFSET(B18,-1,0),".","^^",A18))-1)&1--MID(OFFSET(B18,-1,0),SEARCH("^^",SUBSTITUTE("."&OFFSET(B18,-1,0),".","^^",A18)),SEARCH("^^",SUBSTITUTE(OFFSET(B18,-1,0)&".",".","^^",A18))-SEARCH("^^",SUBSTITUTE("."&OFFSET(B18,-1,0),".","^^",A18)))) -> 2.6.1 | C18: СР-2 п.1 | D18: Затраты на проезд работников от пункта сбора (г. Нальчик) до места временного проживания (с. Терскол) и обратно | E18: комплекс | F18: 1
A19: 3 | B19: =IF(A19>OFFSET(A19,-1,0),OFFSET(B19,-1,0)&"."&1,LEFT(OFFSET(B19,-1,0),SEARCH("^^",SUBSTITUTE("."&OFFSET(B19,-1,0),".","^^",A19))-1)&1--MID(OFFSET(B19,-1,0),SEARCH("^^",SUBSTITUTE("."&OFFSET(B19,-1,0),".","^^",A19)),SEARCH("^^",SUBSTITUTE(OFFSET(B19,-1,0)&".",".","^^",A19))-SEARCH("^^",SUBSTITUTE("."&OFFSET(B19,-1,0),".","^^",A19)))) -> 2.6.2 | C19: СР-2 п.2 | D19: Затраты на проживание рабочих | E19: комплекс | F19: 1
A20: 3 | B20: =IF(A20>OFFSET(A20,-1,0),OFFSET(B20,-1,0)&"."&1,LEFT(OFFSET(B20,-1,0),SEARCH("^^",SUBSTITUTE("."&OFFSET(B20,-1,0),".","^^",A20))-1)&1--MID(OFFSET(B20,-1,0),SEARCH("^^",SUBSTITUTE("."&OFFSET(B20,-1,0),".","^^",A20)),SEARCH("^^",SUBSTITUTE(OFFSET(B20,-1,0)&".",".","^^",A20))-SEARCH("^^",SUBSTITUTE("."&OFFSET(B20,-1,0),".","^^",A20)))) -> 2.6.3 | C20: СР-2 п.2 | D20: Суточные | E20: комплекс | F20: 1
A21: 2 | B21: =IF(A21>OFFSET(A21,-1,0),OFFSET(B21,-1,0)&"."&1,LEFT(OFFSET(B21,-1,0),SEARCH("^^",SUBSTITUTE("."&OFFSET(B21,-1,0),".","^^",A21))-1)&1--MID(OFFSET(B21,-1,0),SEARCH("^^",SUBSTITUTE("."&OFFSET(B21,-1,0),".","^^",A21)),SEARCH("^^",SUBSTITUTE(OFFSET(B21,-1,0)&".",".","^^",A21))-SEARCH("^^",SUBSTITUTE("."&OFFSET(B21,-1,0),".","^^",A21)))) -> 2.7 | C21: СР-3 | D21: Определение разницы в стоимости электроэнергии, получаемой от передвижных источников электроснабжения | E21: комплекс | F21: 1
A22: 2 | B22: =IF(A22>OFFSET(A22,-1,0),OFFSET(B22,-1,0)&"."&1,LEFT(OFFSET(B22,-1,0),SEARCH("^^",SUBSTITUTE("."&OFFSET(B22,-1,0),".","^^",A22))-1)&1--MID(OFFSET(B22,-1,0),SEARCH("^^",SUBSTITUTE("."&OFFSET(B22,-1,0),".","^^",A22)),SEARCH("^^",SUBSTITUTE(OFFSET(B22,-1,0)&".",".","^^",A22))-SEARCH("^^",SUBSTITUTE("."&OFFSET(B22,-1,0),".","^^",A22)))) -> 2.8 | C22: раздел ООС Таблица 6.1.1 | D22: Расчет платы за загрязнение атмосферного воздуха на период строительства | E22: комплекс | F22: 1
A23: 2 | B23: =IF(A23>OFFSET(A23,-1,0),OFFSET(B23,-1,0)&"."&1,LEFT(OFFSET(B23,-1,0),SEARCH("^^",SUBSTITUTE("."&OFFSET(B23,-1,0),".","^^",A23))-1)&1--MID(OFFSET(B23,-1,0),SEARCH("^^",SUBSTITUTE("."&OFFSET(B23,-1,0),".","^^",A23)),SEARCH("^^",SUBSTITUTE(OFFSET(B23,-1,0)&".",".","^^",A23))-SEARCH("^^",SUBSTITUTE("."&OFFSET(B23,-1,0),".","^^",A23)))) -> 2.9 | C23: раздел ООС Таблица 6.1.2 | D23: Расчет платы за размещение отходов на период строительства, включая демонтажные работы, в пределах лимита | E23: комплекс | F23: 1
... A27: 2 | B27: =IF(A27>OFFSET(A27,-1,0),OFFSET(B27,-1,0)&"."&1,LEFT(OFFSET(B27,-1,0),SEARCH("^^",SUBSTITUTE("."&OFFSET(B27,-1,0),".","^^",A27))-1)&1--MID(OFFSET(B27,-1,0),SEARCH("^^",SUBSTITUTE("."&OFFSET(B27,-1,0),".","^^",A27)),SEARCH("^^",SUBSTITUTE(OFFSET(B27,-1,0)&".",".","^^",A27))-SEARCH("^^",SUBSTITUTE("."&OFFSET(B27,-1,0),".","^^",A27)))) -> 2.13 | C27: Приказ от 4.08.2020 № 421/пр п.179 | D27: Непредвиденные затраты для объектов капитального строительства непроизводственного назначения - 2% | E27: комплекс | F27: 1

Sheet График
B1: График производства работ "Реконструкция снегоудерживающих сооружений ВТРК «Эльбрус». Этап 1
A2: № п/п | B2: № ЛСР | C2: Наименование работ | D2: Количество | E2: Ед.Изм. | F2: Начало | G2: Окончание | H2: Передача фундамента в монтаж | I2: 2026 | U2: 2027 | BQ2: 2028
I3: Октябрь | M3: Ноябрь | Q3: Декабрь | U3: январь | Y3: февраль | AC3: март | AG3: апрель | AK3: май | AO3: июнь | AS3: июль | AW3: август | BA3: сентябрь | BE3: октябрь | BI3: ноябрь | BM3: декабрь | BQ3: январь | BU3: февраль | BY3: март | CC3: апрель | CG3: май | CK3: июнь | CO3: июль | CS3: август | CW3: сентябрь | DA3: октябрь | DE3: ноябрь | DI3: декабрь
I4: 1 | J4: 2 | K4: 3 | L4: 4 | M4: 1 | N4: 2 | O4: 3 | P4: 4 | Q4: 1 | R4: 2 | S4: 3 | T4: 4 | U4: 1 | V4: 2 | W4: 3 | X4: 4 | Y4: 1 | Z4: 2 | AA4: 3 | AB4: 4 | AC4: 1 | AD4: 2 | AE4: 3 | AF4: 4 | AG4: 1 | AH4: 2 | AI4: 3 | AJ4: 4 | AK4: 1 | AL4: 2 | AM4: 3 | AN4: 4 | AO4: 1 | AP4: 2 | AQ4: 3 | AR4: 4 | AS4: 1 | AT4: 2 | AU4: 3 | AV4: 4 | AW4: 1 | AX4: 2 | AY4: 3 | AZ4: 4 | BA4: 1 | BB4: 2 | BC4: 3 | BD4: 4 | BE4: 1 | BF4: 2 | BG4: 3 | BH4: 4 | BI4: 1 | BJ4: 2 | BK4: 3 | BL4: 4 | BM4: 1 | BN4: 2 | BO4: 3 | BP4: 4 | BQ4: 1 | BR4: 2 | BS4: 3 | BT4: 4 | BU4: 1 | BV4: 2 | BW4: 3 | BX4: 4 | BY4: 1 | BZ4: 2 | CA4: 3 | CB4: 4 | CC4: 1 | CD4: 2 | CE4: 3 | CF4: 4 | CG4: 1 | CH4: 2 | CI4: 3 | CJ4: 4 | CK4: 1 | CL4: 2 | CM4: 3 | CN4: 4 | CO4: 1 | CP4: 2 | CQ4: 3 | CR4: 4 | CS4: 1 | CT4: 2 | CU4: 3 | CV4: 4 | CW4: 1 | CX4: 2 | CY4: 3 | CZ4: 4 | DA4: 1 | DB4: 2 | DC4: 3 | DD4: 4 | DE4: 1 | DF4: 2 | DG4: 3 | DH4: 4 | DI4: 1 | DJ4: 2 | DK4: 3 | DL4: 4
C5: ВТРК "Эльбрус"
C6: Реконструкция снегоудерживающих сооружений. Этап 1
A7: 1 | C7: Работы подготовительного периода
A8: 1.1 | C8: подписание сторонами акта о соответствии состояния земельного участка (объекта капитального строительства, подлежащего реконструкции) условиям контракта | D8: 1 | E8: комп | F8: 46371 | G8: 46386
A9: 1.2 | C9: передача подрядчику копии разрешения на строительство, реконструкцию объекта; копии решения собственника имущества о его сносе (при необходимости); копии разрешения на вырубку зеленых и лесных насаждений; копии технических условий и разрешений на временное присоединение объекта к сетям инженерно-технического обеспечения в соответствии с проектом организации строительства | D9: 1 | E9: комп | F9: 46371 | G9: 46386
A10: 1.3 | C10: передача подрядчику копий документов, подтверждающих согласование производства отдельных работ, если необходимость такого согласования установлена законодательством Российской Федерации | D10: 1 | E10: комп | F10: 46371 | G10: 46386
A11: 1.4 | C11: Обустройство временных дорог и площадок на территории производства работ | D11: 1 | E11: комп
A12: 2 | B12: ЛСР-01-01-01 | C12: Демонтажные работы | D12: 1 | E12: комп | F12: 46539 | G12: 46995
A13: 3 | B13: ССР на ПИР | C13: Рабочая документация | D13: 1 | E13: комп | F13: 46397 | G13: 46537
A14: 4 | B14: СР-1 | C14: Создание ГРО
A15: 4.1 | B15: Смета №1 | C15: Разбивка основных осей | D15: 1 | E15: комп | F15: 46508 | G15: 46598
A16: 5 | B16: ОС 02-01 | C16: Строительно-монтажные работы
A17: 5.1 | B17: ЛС 02-01-01 | C17: Инженерная защита территории. Снегоудерживающие барьеры. Этап 1. | D17: 1 | E17: комп | F17: 46537 | G17: 47041
A18: 5.2 | B18: ЛСР-01-02-01 | C18: Рекультивация временных дорог и разворотных площадок ведущих к территории участка реконструкции снегоудерживающих сооружений | D18: 1 | E18: комп | F18: 47041 | G18: 47056
A19: 6 | C19: Ввод объекта в эксплуатацию
A20: 6.1 | C20: Подключение объекта к сетям инженерно-технического обеспечения в соответствии с техническими условиями, предусмотренными проектной документацией | D20: 1 | E20: комп | F20: не требуется
A21: 6.2 | C21: Подписание акта о соответствии состояния земельного участка условиям контракта при завершении строительства, реконструкции объекта | D21: 1 | E21: комп | F21: 47097 | G21: 47102
A22: 6.3 | C22: Получение заключения о соответствии (ЗОС) от госстройнадзора | D22: 1 | E22: комп | F22: 47058 | G22: 47087
A23: 6.4 | C23: Получение разрешения на ввод объекта в эксплуатацию | D23: 1 | E23: комп | F23: 47088 | G23: 47107

Sheet НМЦК
B1: Расчет начальной (максимальной) цены контракта при осуществлении закупки на выполнение подрядных работ по строительству
B2: Выполнение проектно-изыскательских работ на реконструкцию снегоудерживающих сооружений ВТРК «Эльбрус». Этап 1
B3: (наименование стройки)
B5: Основания для расчета:
B6: 1. | C6: Приказ об утверждении проектно-сметной документации от 14.10.2024 № Пр-24-219
B7: 2. | C7: Заключение Федерального автономного учреждения "Главное управление государственной экспертизы" от 15.10.2026 № 07-1-1-3-051344-2026
B8: 3. | C8: =CONCATENATE("Утвержденный сводный сметный расчет стоимости строительства в ценах 4 квартала 2025 г. на сумму ",ССРСС!$H$80," тыс. руб.") -> Утвержденный сводный сметный расчет стоимости строительства в ценах 4 квартала 2025 г. на сумму 3907776,33 тыс. руб.
A10: Ур. (для нумерации позиций) | B10: № п/п | C10: Обоснование | D10: Наименование глав, объектов капитального строительства, работ и затрат | E10: Сметная стоимость, руб. | J10: ВЗиС - 3,1%*0,8 | K10: Возврат от разборки ВЗиС - 15% от ВЗиС | L10: ЗУ - 0,9% | M10: Стоимость затрат в ценах утверждения сметной документации (IV квартал 2025 года) | N10: Индекс фактической инфляции (от уровня цен в сметной документации до даты формирования НМЦК) | O10: Стоимость затрат в ценах на дату формирования НМЦК | P10: Индекс прогнозной инфляции за период выполнения работ | Q10: Начальная (максимальная) цена контракта с учетом индекса прогнозной инфляции на период выполнения работ
E11: Строительных (ремонтно- строительных, ремонтно-реставрационных) работ | F11: монтажных работ | G11: оборудования | H11: прочих затрат | I11: всего
B13: 1 | C13: 2 | D13: 3 | E13: 4 | F13: 5 | G13: 6 | H13: 7 | I13: 8 | J13: 9 | K13: 10 | L13: 11 | M13: 12 | N13: 13 | O13: 14 | P13: 15 | Q13: 16
A14: 1 | B14: 1 | D14: Разработка рабочей документации | H14: =SUM(H15:H16) -> 1.293632e+08 | I14: =SUM(E14:H14) -> 1.293632e+08 | J14: =SUM(J15:J16) -> 0 | K14: =SUM(K15:K16) -> 0 | L14: =SUM(L15:L16) -> 0 | M14: =SUM(M15:M16) -> 1.293632e+08 | O14: =SUM(O15:O16) -> 1.3672396e+08 | Q14: =SUM(Q15:Q16) -> 1.4332773e+08
A15: 2 | B15: =IF(A15>OFFSET(A15,-1,0),OFFSET(B15,-1,0)&"."&1,LEFT(OFFSET(B15,-1,0),SEARCH("^^",SUBSTITUTE("."&OFFSET(B15,-1,0),".","^^",A15))-1)&1--MID(OFFSET(B15,-1,0),SEARCH("^^",SUBSTITUTE("."&OFFSET(B15,-1,0),".","^^",A15)),SEARCH("^^",SUBSTITUTE(OFFSET(B15,-1,0)&".",".","^^",A15))-SEARCH("^^",SUBSTITUTE("."&OFFSET(B15,-1,0),".","^^",A15)))) -> 1.1 | C15: Смета №10 | D15: Рабочая документация | H15: ='Смета №10 (РД)'!$I$150 -> 1.2682666e+08 | I15: =SUM(E15:H15) -> 1.2682666e+08 | M15: =SUM(I15:L15) -> 1.2682666e+08 | N15: ='Фактический индекс'!$F$123 -> 1.0569 | O15: =M15*N15 -> 1.340431e+08 | P15: ='Прогнозные индексы'!$F$56 -> 1.0483 | Q15: =O15*P15 -> 1.4051738e+08
A16: 2 | B16: =IF(A16>OFFSET(A16,-1,0),OFFSET(B16,-1,0)&"."&1,LEFT(OFFSET(B16,-1,0),SEARCH("^^",SUBSTITUTE("."&OFFSET(B16,-1,0),".","^^",A16))-1)&1--MID(OFFSET(B16,-1,0),SEARCH("^^",SUBSTITUTE("."&OFFSET(B16,-1,0),".","^^",A16)),SEARCH("^^",SUBSTITUTE(OFFSET(B16,-1,0)&".",".","^^",A16))-SEARCH("^^",SUBSTITUTE("."&OFFSET(B16,-1,0),".","^^",A16)))) -> 1.2 | C16: Приказ от 4.08.2020 № 421/пр п.179 | D16: Непредвиденные затраты для объектов капитального строительства непроизводственного назначения - 2% | H16: =H15*2% -> 2536533.3 | I16: =SUM(E16:H16) -> 2536533.3 | M16: =M15*2% -> 2536533.3 | O16: =O15*2% -> 2680862 | Q16: =Q15*2% -> 2810347.7
A17: 1 | B17: =IF(A17>OFFSET(A17,-1,0),OFFSET(B17,-1,0)&"."&1,LEFT(OFFSET(B17,-1,0),SEARCH("^^",SUBSTITUTE("."&OFFSET(B17,-1,0),".","^^",A17))-1)&1--MID(OFFSET(B17,-1,0),SEARCH("^^",SUBSTITUTE("."&OFFSET(B17,-1,0),".","^^",A17)),SEARCH("^^",SUBSTITUTE(OFFSET(B17,-1,0)&".",".","^^",A17))-SEARCH("^^",SUBSTITUTE("."&OFFSET(B17,-1,0),".","^^",A17)))) -> 2 | D17: Строительство | E17: =SUM(E18:E23,E27:E33) -> 2.6577052e+09 | H17: =SUM(H18:H23,H27:H33) -> 1.2071934e+08 | I17: =SUM(E17:H17) -> 2.7784245e+09 | J17: =SUM(J18:J23,J27:J33) -> 65911088 | K17: =SUM(K18:K23,K27:K33) -> -9886663.2 | L17: =SUM(L18:L23,L27:L33) -> 24512546 | M17: =SUM(M18:M23,M27:M33) -> 2.8589615e+09 | O17: =SUM(O18:O23,O27:O33) -> 3.0212687e+09 | Q17: =SUM(Q18:Q23,Q27:Q33) -> 3.3818395e+09
A18: 2 | B18: =IF(A18>OFFSET(A18,-1,0),OFFSET(B18,-1,0)&"."&1,LEFT(OFFSET(B18,-1,0),SEARCH("^^",SUBSTITUTE("."&OFFSET(B18,-1,0),".","^^",A18))-1)&1--MID(OFFSET(B18,-1,0),SEARCH("^^",SUBSTITUTE("."&OFFSET(B18,-1,0),".","^^",A18)),SEARCH("^^",SUBSTITUTE(OFFSET(B18,-1,0)&".",".","^^",A18))-SEARCH("^^",SUBSTITUTE("."&OFFSET(B18,-1,0),".","^^",A18)))) -> 2.1 | C18: Смета №1 | D18: Затраты по разбивке основных осей | H18: ='Смета №1 ГРО'!$G$71 -> 1883706 | I18: =SUM(E18:H18) -> 1883706 | M18: =SUM(I18:L18) -> 1883706 | N18: ='Фактический индекс'!$F$123 -> 1.0569 | O18: =M18*N18 -> 1990888.9 | P18: ='Прогнозные индексы'!$F$74 -> 1.1196 | Q18: =O18*P18 -> 2228999.2
A19: 2 | B19: =IF(A19>OFFSET(A19,-1,0),OFFSET(B19,-1,0)&"."&1,LEFT(OFFSET(B19,-1,0),SEARCH("^^",SUBSTITUTE("."&OFFSET(B19,-1,0),".","^^",A19))-1)&1--MID(OFFSET(B19,-1,0),SEARCH("^^",SUBSTITUTE("."&OFFSET(B19,-1,0),".","^^",A19)),SEARCH("^^",SUBSTITUTE(OFFSET(B19,-1,0)&".",".","^^",A19))-SEARCH("^^",SUBSTITUTE("."&OFFSET(B19,-1,0),".","^^",A19)))) -> 2.2 | C19: ЛСР-01-01-01 | D19: Демонтажные работы | E19: ='ЛСР-01-01-01'!$P$731 -> 17225567 | I19: =SUM(E19:H19) -> 17225567 | J19: =(E19+F19)*3.1%*0.8 -> 427194.05 | K19: =-J19*15% -> -64079.11 | L19: =(E19+F19+J19)*0.9% -> 158874.85 | M19: =SUM(I19:L19) -> 17747557 | N19: ='Фактический индекс'!$F$123 -> 1.0569 | O19: =M19*N19 -> 18757392 | P19: ='Прогнозные индексы'!$F$74 -> 1.1196 | Q19: =O19*P19 -> 21000777
A20: 2 | B20: =IF(A20>OFFSET(A20,-1,0),OFFSET(B20,-1,0)&"."&1,LEFT(OFFSET(B20,-1,0),SEARCH("^^",SUBSTITUTE("."&OFFSET(B20,-1,0),".","^^",A20))-1)&1--MID(OFFSET(B20,-1,0),SEARCH("^^",SUBSTITUTE("."&OFFSET(B20,-1,0),".","^^",A20)),SEARCH("^^",SUBSTITUTE(OFFSET(B20,-1,0)&".",".","^^",A20))-SEARCH("^^",SUBSTITUTE("."&OFFSET(B20,-1,0),".","^^",A20)))) -> 2.3 | C20: ЛСР-01-02-01 | D20: Рекультивация временных дорог и разворотных площадок ведущих к территории участка реконструкции снегоудерживающих сооружений | E20: =' ЛСР-01-02-01'!$P$87 -> 11618.63 | I20: =SUM(E20:H20) -> 11618.63 | J20: =(E20+F20)*3.1%*0.8 -> 288.14 | K20: =-J20*15% -> -43.22 | L20: =(E20+F20+J20)*0.9% -> 107.16 | M20: =SUM(I20:L20) -> 11970.71 | N20: ='Фактический индекс'!$F$123 -> 1.0569 | O20: =M20*N20 -> 12651.84 | P20: ='Прогнозные индексы'!$F$74 -> 1.1196 | Q20: =O20*P20 -> 14165
A21: 2 | B21: =IF(A21>OFFSET(A21,-1,0),OFFSET(B21,-1,0)&"."&1,LEFT(OFFSET(B21,-1,0),SEARCH("^^",SUBSTITUTE("."&OFFSET(B21,-1,0),".","^^",A21))-1)&1--MID(OFFSET(B21,-1,0),SEARCH("^^",SUBSTITUTE("."&OFFSET(B21,-1,0),".","^^",A21)),SEARCH("^^",SUBSTITUTE(OFFSET(B21,-1,0)&".",".","^^",A21))-SEARCH("^^",SUBSTITUTE("."&OFFSET(B21,-1,0),".","^^",A21)))) -> 2.4 | C21: ЛСР-02-01-01 | D21: Инженерная защита территории. Снегоудерживающие барьеры. Этап 1. | E21: ='ЛСР-02-01-01'!$P$2162 -> 2.5883561e+09 | I21: =SUM(E21:H21) -> 2.5883561e+09 | J21: =(E21+F21)*3.1%*0.8 -> 64191232 | K21: =-J21*15% -> -9628684.8 | L21: =(E21+F21+J21)*0.9% -> 23872926 | M21: =SUM(I21:L21) -> 2.6667916e+09 | N21: ='Фактический индекс'!$F$123 -> 1.0569 | O21: =M21*N21 -> 2.818532e+09 | P21: ='Прогнозные индексы'!$F$74 -> 1.1196 | Q21: =O21*P21 -> 3.1556285e+09
A22: 2 | B22: =IF(A22>OFFSET(A22,-1,0),OFFSET(B22,-1,0)&"."&1,LEFT(OFFSET(B22,-1,0),SEARCH("^^",SUBSTITUTE("."&OFFSET(B22,-1,0),".","^^",A22))-1)&1--MID(OFFSET(B22,-1,0),SEARCH("^^",SUBSTITUTE("."&OFFSET(B22,-1,0),".","^^",A22)),SEARCH("^^",SUBSTITUTE(OFFSET(B22,-1,0)&".",".","^^",A22))-SEARCH("^^",SUBSTITUTE("."&OFFSET(B22,-1,0),".","^^",A22)))) -> 2.5 | C22: СР-1 | D22: Затраты по перевозке работников к месту работы и обратно автомобильным транспортом | H22: ='СР-1'!$F$11 -> 3867745.6 | I22: =SUM(E22:H22) -> 3867745.6 | M22: =SUM(I22:L22) -> 3867745.6 | N22: ='Фактический индекс'!$F$123 -> 1.0569 | O22: =M22*N22 -> 4087820.4 | P22: ='Прогнозные индексы'!$F$74 -> 1.1196 | Q22: =O22*P22 -> 4576723.7
A23: 2 | B23: =IF(A23>OFFSET(A23,-1,0),OFFSET(B23,-1,0)&"."&1,LEFT(OFFSET(B23,-1,0),SEARCH("^^",SUBSTITUTE("."&OFFSET(B23,-1,0),".","^^",A23))-1)&1--MID(OFFSET(B23,-1,0),SEARCH("^^",SUBSTITUTE("."&OFFSET(B23,-1,0),".","^^",A23)),SEARCH("^^",SUBSTITUTE(OFFSET(B23,-1,0)&".",".","^^",A23))-SEARCH("^^",SUBSTITUTE("."&OFFSET(B23,-1,0),".","^^",A23)))) -> 2.6 | C23: СР-2 | D23: Расходы, связанные с командировками рабочих, привлекаемых для выполнения строительства, от места, определенного в проектной документации, до территории строительства и обратно. | H23: ='СР-2_командировочные'!$F$38 -> 31355171 | I23: =SUM(E23:H23) -> 31355171 | M23: =SUM(I23:L23) -> 31355171 | O23: =SUM(O24:O26) -> 32778761 | Q23: =SUM(Q24:Q26) -> 35941316
A24: 3 | B24: =IF(A24>OFFSET(A24,-1,0),OFFSET(B24,-1,0)&"."&1,LEFT(OFFSET(B24,-1,0),SEARCH("^^",SUBSTITUTE("."&OFFSET(B24,-1,0),".","^^",A24))-1)&1--MID(OFFSET(B24,-1,0),SEARCH("^^",SUBSTITUTE("."&OFFSET(B24,-1,0),".","^^",A24)),SEARCH("^^",SUBSTITUTE(OFFSET(B24,-1,0)&".",".","^^",A24))-SEARCH("^^",SUBSTITUTE("."&OFFSET(B24,-1,0),".","^^",A24)))) -> 2.6.1 | C24: СР-2 п.1 | D24: Затраты на проезд работников от пункта сбора (г. Нальчик) до места временного проживания (с. Терскол) и обратно | H24: ='СР-2_командировочные'!$F$11 -> 652181.76 | I24: =SUM(E24:H24) -> 652181.76 | M24: =SUM(I24:L24) -> 652181.76 | N24: ='Фактический индекс'!$F$123 -> 1.0569 | O24: =M24*N24 -> 689290.9 | P24: ='Прогнозные индексы'!$F$74 -> 1.1196 | Q24: =O24*P24 -> 771730.09
A25: 3 | B25: =IF(A25>OFFSET(A25,-1,0),OFFSET(B25,-1,0)&"."&1,LEFT(OFFSET(B25,-1,0),SEARCH("^^",SUBSTITUTE("."&OFFSET(B25,-1,0),".","^^",A25))-1)&1--MID(OFFSET(B25,-1,0),SEARCH("^^",SUBSTITUTE("."&OFFSET(B25,-1,0),".","^^",A25)),SEARCH("^^",SUBSTITUTE(OFFSET(B25,-1,0)&".",".","^^",A25))-SEARCH("^^",SUBSTITUTE("."&OFFSET(B25,-1,0),".","^^",A25)))) -> 2.6.2 | C25: СР-2 п.2 | D25: Затраты на проживание рабочих | H25: ='СР-2_командировочные'!$F$34*'СР-2_командировочные'!$F$35*'СР-2_командировочные'!$F$36 -> 24366989 | I25: =SUM(E25:H25) -> 24366989 | M25: =SUM(I25:L25) -> 24366989 | N25: ='Фактический индекс'!$F$123 -> 1.0569 | O25: =M25*N25 -> 25753470 | P25: ='Прогнозные индексы'!$F$74 -> 1.1196 | Q25: =O25*P25 -> 28833586
A26: 3 | B26: =IF(A26>OFFSET(A26,-1,0),OFFSET(B26,-1,0)&"."&1,LEFT(OFFSET(B26,-1,0),SEARCH("^^",SUBSTITUTE("."&OFFSET(B26,-1,0),".","^^",A26))-1)&1--MID(OFFSET(B26,-1,0),SEARCH("^^",SUBSTITUTE("."&OFFSET(B26,-1,0),".","^^",A26)),SEARCH("^^",SUBSTITUTE(OFFSET(B26,-1,0)&".",".","^^",A26))-SEARCH("^^",SUBSTITUTE("."&OFFSET(B26,-1,0),".","^^",A26)))) -> 2.6.3 | C26: СР-2 п.2 | D26: Суточные | H26: ='СР-2_командировочные'!$F$34*'СР-2_командировочные'!$F$35*'СР-2_командировочные'!$F$37 -> 6336000 | I26: =SUM(E26:H26) -> 6336000 | M26: =SUM(I26:L26) -> 6336000 | N26: 1 | O26: =M26*N26 -> 6336000 | P26: 1 | Q26: =O26*P26 -> 6336000
A27: 2 | B27: =IF(A27>OFFSET(A27,-1,0),OFFSET(B27,-1,0)&"."&1,LEFT(OFFSET(B27,-1,0),SEARCH("^^",SUBSTITUTE("."&OFFSET(B27,-1,0),".","^^",A27))-1)&1--MID(OFFSET(B27,-1,0),SEARCH("^^",SUBSTITUTE("."&OFFSET(B27,-1,0),".","^^",A27)),SEARCH("^^",SUBSTITUTE(OFFSET(B27,-1,0)&".",".","^^",A27))-SEARCH("^^",SUBSTITUTE("."&OFFSET(B27,-1,0),".","^^",A27)))) -> 2.7 | C27: СР-3 | D27: Определение разницы в стоимости электроэнергии, получаемой от передвижных источников электроснабжения | H27: ='СР-3 Электроэнергия '!$F$8 -> 86766.89 | I27: =SUM(E27:H27) -> 86766.89 | M27: =SUM(I27:L27) -> 86766.89 | N27: ='Фактический индекс'!$F$123 -> 1.0569 | O27: =M27*N27 -> 91703.93 | P27: ='Прогнозные индексы'!$F$74 -> 1.1196 | Q27: =O27*P27 -> 102671.72
A28: 2 | B28: =IF(A28>OFFSET(A28,-1,0),OFFSET(B28,-1,0)&"."&1,LEFT(OFFSET(B28,-1,0),SEARCH("^^",SUBSTITUTE("."&OFFSET(B28,-1,0),".","^^",A28))-1)&1--MID(OFFSET(B28,-1,0),SEARCH("^^",SUBSTITUTE("."&OFFSET(B28,-1,0),".","^^",A28)),SEARCH("^^",SUBSTITUTE(OFFSET(B28,-1,0)&".",".","^^",A28))-SEARCH("^^",SUBSTITUTE("."&OFFSET(B28,-1,0),".","^^",A28)))) -> 2.8 | C28: раздел ООС Таблица 6.1.1 | D28: Расчет платы за загрязнение атмосферного воздуха на период строительства | H28: =7445 -> 7445 | I28: =SUM(E28:H28) -> 7445 | M28: =SUM(I28:L28) -> 7445 | N28: ='Фактический индекс'!$F$123 -> 1.0569 | O28: =M28*N28 -> 7868.62 | P28: ='Прогнозные индексы'!$F$74 -> 1.1196 | Q28: =O28*P28 -> 8809.71
A29: 2 | B29: =IF(A29>OFFSET(A29,-1,0),OFFSET(B29,-1,0)&"."&1,LEFT(OFFSET(B29,-1,0),SEARCH("^^",SUBSTITUTE("."&OFFSET(B29,-1,0),".","^^",A29))-1)&1--MID(OFFSET(B29,-1,0),SEARCH("^^",SUBSTITUTE("."&OFFSET(B29,-1,0),".","^^",A29)),SEARCH("^^",SUBSTITUTE(OFFSET(B29,-1,0)&".",".","^^",A29))-SEARCH("^^",SUBSTITUTE("."&OFFSET(B29,-1,0),".","^^",A29)))) -> 2.9 | C29: раздел ООС Таблица 6.1.2 | D29: Расчет платы за размещение отходов на период строительства, включая демонтажные работы, в пределах лимита | H29: =584.66 -> 584.66 | I29: =SUM(E29:H29) -> 584.66 | M29: =SUM(I29:L29) -> 584.66 | N29: ='Фактический индекс'!$F$123 -> 1.0569 | O29: =M29*N29 -> 617.93 | P29: ='Прогнозные индексы'!$F$74 -> 1.1196 | Q29: =O29*P29 -> 691.83
A30: 2 | B30: =IF(A30>OFFSET(A30,-1,0),OFFSET(B30,-1,0)&"."&1,LEFT(OFFSET(B30,-1,0),SEARCH("^^",SUBSTITUTE("."&OFFSET(B30,-1,0),".","^^",A30))-1)&1--MID(OFFSET(B30,-1,0),SEARCH("^^",SUBSTITUTE("."&OFFSET(B30,-1,0),".","^^",A30)),SEARCH("^^",SUBSTITUTE(OFFSET(B30,-1,0)&".",".","^^",A30))-SEARCH("^^",SUBSTITUTE("."&OFFSET(B30,-1,0),".","^^",A30)))) -> 2.10 | C30: раздел ООС Таблица 6.1.3 | D30: Расчет платы за проведение производственно-экологического контроля | H30: =22746.63 -> 22746.63 | I30: =SUM(E30:H30) -> 22746.63 | M30: =SUM(I30:L30) -> 22746.63 | N30: ='Фактический индекс'!$F$123 -> 1.0569 | O30: =M30*N30 -> 24040.91 | P30: ='Прогнозные индексы'!$F$74 -> 1.1196 | Q30: =O30*P30 -> 26916.2
A31: 2 | B31: =IF(A31>OFFSET(A31,-1,0),OFFSET(B31,-1,0)&"."&1,LEFT(OFFSET(B31,-1,0),SEARCH("^^",SUBSTITUTE("."&OFFSET(B31,-1,0),".","^^",A31))-1)&1--MID(OFFSET(B31,-1,0),SEARCH("^^",SUBSTITUTE("."&OFFSET(B31,-1,0),".","^^",A31)),SEARCH("^^",SUBSTITUTE(OFFSET(B31,-1,0)&".",".","^^",A31))-SEARCH("^^",SUBSTITUTE("."&OFFSET(B31,-1,0),".","^^",A31)))) -> 2.11 | C31: ЛСР-09-01-01 | D31: Расчет затрат на утилизацию строительных отходов | H31: ='ЛСР-09-01-01'!$P$63 -> 10051.96 | I31: =SUM(E31:H31) -> 10051.96 | M31: =SUM(I31:L31) -> 10051.96 | N31: ='Фактический индекс'!$F$123 -> 1.0569 | O31: =M31*N31 -> 10623.92 | P31: ='Прогнозные индексы'!$F$74 -> 1.1196 | Q31: =O31*P31 -> 11894.54
A32: 2 | B32: =IF(A32>OFFSET(A32,-1,0),OFFSET(B32,-1,0)&"."&1,LEFT(OFFSET(B32,-1,0),SEARCH("^^",SUBSTITUTE("."&OFFSET(B32,-1,0),".","^^",A32))-1)&1--MID(OFFSET(B32,-1,0),SEARCH("^^",SUBSTITUTE("."&OFFSET(B32,-1,0),".","^^",A32)),SEARCH("^^",SUBSTITUTE(OFFSET(B32,-1,0)&".",".","^^",A32))-SEARCH("^^",SUBSTITUTE("."&OFFSET(B32,-1,0),".","^^",A32)))) -> 2.12 | C32: ЛСР-09-02-01 | D32: Перевозка грузов с использованием вертолета Ми-8МТВ-1 | H32: ='ЛСР-09-02-01'!$P$61 -> 81118080 | I32: =SUM(E32:H32) -> 81118080 | M32: =SUM(I32:L32) -> 81118080 | N32: ='Фактический индекс'!$F$123 -> 1.0569 | O32: =M32*N32 -> 85733699 | P32: ='Прогнозные индексы'!$F$74 -> 1.1196 | Q32: =O32*P32 -> 95987449
A33: 2 | B33: =IF(A33>OFFSET(A33,-1,0),OFFSET(B33,-1,0)&"."&1,LEFT(OFFSET(B33,-1,0),SEARCH("^^",SUBSTITUTE("."&OFFSET(B33,-1,0),".","^^",A33))-1)&1--MID(OFFSET(B33,-1,0),SEARCH("^^",SUBSTITUTE("."&OFFSET(B33,-1,0),".","^^",A33)),SEARCH("^^",SUBSTITUTE(OFFSET(B33,-1,0)&".",".","^^",A33))-SEARCH("^^",SUBSTITUTE("."&OFFSET(B33,-1,0),".","^^",A33)))) -> 2.13 | C33: Приказ от 4.08.2020 № 421/пр п.179 | D33: Непредвиденные затраты для объектов капитального строительства непроизводственного назначения - 2% | E33: =SUM(E18:E23,E27:E32)*2% -> 52111866 | H33: =SUM(H18:H23,H27:H32)*2% -> 2367046 | I33: =SUM(E33:H33) -> 54478912 | J33: =SUM(J18:J23,J27:J32)*2% -> 1292374.3 | K33: =SUM(K18:K23,K27:K32)*2% -> -193856.14 | L33: =SUM(L18:L23,L27:L32)*2% -> 480638.16 | M33: =SUM(M18:M23,M27:M32)*2% -> 56058068 | O33: =SUM(O18:O23,O27:O32)*2% -> 59240562 | Q33: =SUM(Q18:Q23,Q27:Q32)*2% -> 66310578
A34: 1 | B34: =IF(A34>OFFSET(A34,-1,0),OFFSET(B34,-1,0)&"."&1,LEFT(OFFSET(B34,-1,0),SEARCH("^^",SUBSTITUTE("."&OFFSET(B34,-1,0),".","^^",A34))-1)&1--MID(OFFSET(B34,-1,0),SEARCH("^^",SUBSTITUTE("."&OFFSET(B34,-1,0),".","^^",A34)),SEARCH("^^",SUBSTITUTE(OFFSET(B34,-1,0)&".",".","^^",A34))-SEARCH("^^",SUBSTITUTE("."&OFFSET(B34,-1,0),".","^^",A34)))) -> 3 | D34: Итого | E34: =E14+E17 -> 2.6577052e+09 | H34: =H14+H17 -> 2.5008254e+08 | I34: =SUM(E34:H34) -> 2.9077877e+09 | J34: =J14+J17 -> 65911088 | K34: =K14+K17 -> -9886663.2 | L34: =L14+L17 -> 24512546 | M34: =M14+M17 -> 2.9883247e+09 | O34: =O14+O17 -> 3.1579926e+09 | Q34: =Q14+Q17 -> 3.5251672e+09
A35: 1 | B35: =IF(A35>OFFSET(A35,-1,0),OFFSET(B35,-1,0)&"."&1,LEFT(OFFSET(B35,-1,0),SEARCH("^^",SUBSTITUTE("."&OFFSET(B35,-1,0),".","^^",A35))-1)&1--MID(OFFSET(B35,-1,0),SEARCH("^^",SUBSTITUTE("."&OFFSET(B35,-1,0),".","^^",A35)),SEARCH("^^",SUBSTITUTE(OFFSET(B35,-1,0)&".",".","^^",A35))-SEARCH("^^",SUBSTITUTE("."&OFFSET(B35,-1,0),".","^^",A35)))) -> 4 | C35: № 425-ФЗ от 28.11.2025 | D35: НДС - 22% | E35: =E34*22% -> 5.8469514e+08 | H35: =H34*22% -> 55018159 | I35: =SUM(E35:H35) -> 6.397133e+08 | J35: =J34*22% -> 14500439 | K35: =K34*22% -> -2175065.9 | L35: =L34*22% -> 5392760.2 | M35: =M34*22% -> 6.5743143e+08 | O35: =O34*22% -> 6.9475838e+08 | Q35: =Q34*22% -> 7.7553678e+08
A36: 1 | B36: =IF(A36>OFFSET(A36,-1,0),OFFSET(B36,-1,0)&"."&1,LEFT(OFFSET(B36,-1,0),SEARCH("^^",SUBSTITUTE("."&OFFSET(B36,-1,0),".","^^",A36))-1)&1--MID(OFFSET(B36,-1,0),SEARCH("^^",SUBSTITUTE("."&OFFSET(B36,-1,0),".","^^",A36)),SEARCH("^^",SUBSTITUTE(OFFSET(B36,-1,0)&".",".","^^",A36))-SEARCH("^^",SUBSTITUTE("."&OFFSET(B36,-1,0),".","^^",A36)))) -> 5 | D36: ВСЕГО с НДС | E36: =E34+E35 -> 3.2424003e+09 | H36: =H34+H35 -> 3.051007e+08 | I36: =SUM(E36:H36) -> 3.547501e+09 | J36: =J34+J35 -> 80411528 | K36: =K34+K35 -> -12061729 | L36: =L34+L35 -> 29905307 | M36: =M34+M35 -> 3.6457561e+09 | O36: =O34+O35 -> 3.852751e+09 | Q36: =Q34+Q35 -> 4.300704e+09
B39: Разработал:
B40: =ПЗ!$A$19 -> Начальник отдела ценообразования Управления проектов Департамента развития инфраструктуры | J40: =ПЗ!$C$19 -> А.Ю. Татаринов
B42: Проверил:
B43: =ПЗ!$A$23 -> Заместитель директора департамента по ценообразованию и сметному регулированию Департамента развития инфраструктуры | J43: =ПЗ!$C$23 -> Е.А. Татаринова
B45: Согласовал:
B46: =ПЗ!$A$27 -> Директор Департамента развития инфраструктуры | J46: =ПЗ!$C$27 -> И.В. Евдокимов

Sheet Фактический индекс
A1: Индексы цен на продукцию (затраты, услуги) инвестиционного назначения с 2017 г. (процент)
E3: К предыдущему месяцу | F3: в виде К
A4: Российская Федерация | B4: СТРОИТЕЛЬСТВО | C4: 2017 | D4: январь | E4: 100.19 | F4: =E4/100 -> 1.0019
A5: Российская Федерация | B5: СТРОИТЕЛЬСТВО | C5: 2017 | D5: февраль | E5: 101.71 | F5: =E5/100 -> 1.0171
A6: Российская Федерация | B6: СТРОИТЕЛЬСТВО | C6: 2017 | D6: март | E6: 97.46 | F6: =E6/100 -> 0.9746
A7: Российская Федерация | B7: СТРОИТЕЛЬСТВО | C7: 2017 | D7: апрель | E7: 100.75 | F7: =E7/100 -> 1.0075
A8: Российская Федерация | B8: СТРОИТЕЛЬСТВО | C8: 2017 | D8: май | E8: 101.23 | F8: =E8/100 -> 1.0123
A9: Российская Федерация | B9: СТРОИТЕЛЬСТВО | C9: 2017 | D9: июнь | E9: 100.13 | F9: =E9/100 -> 1.0013
A10: Российская Федерация | B10: СТРОИТЕЛЬСТВО | C10: 2017 | D10: июль | E10: 100.84 | F10: =E10/100 -> 1.0084
A11: Российская Федерация | B11: СТРОИТЕЛЬСТВО | C11: 2017 | D11: август | E11: 100.89 | F11: =E11/100 -> 1.0089
A12: Российская Федерация | B12: СТРОИТЕЛЬСТВО | C12: 2017 | D12: сентябрь | E12: 100.08 | F12: =E12/100 -> 1.0008
A13: Российская Федерация | B13: СТРОИТЕЛЬСТВО | C13: 2017 | D13: октябрь | E13: 100.25 | F13: =E13/100 -> 1.0025
A14: Российская Федерация | B14: СТРОИТЕЛЬСТВО | C14: 2017 | D14: ноябрь | E14: 99.6 | F14: =E14/100 -> 0.996
A15: Российская Федерация | B15: СТРОИТЕЛЬСТВО | C15: 2017 | D15: декабрь | E15: 100.32 | F15: =E15/100 -> 1.0032
... A119: Российская Федерация без учета новых субъектов (с 01.01.2023) | B119: СТРОИТЕЛЬСТВО | C119: 2026 | D119: август | E119: 100.83 | F119: =E119/100 -> 1.0083
D120: сентябрь* | E120: =E119 -> 100.83 | F120: =E120/100 -> 1.0083
A121: * принят равным последнему опубликованному индексу.
A123: Индекс фактической инфляции от уровня цен в сметной документации 4 квартал 2025 года (01.01.2026) к уровню цен на дату формирования НМЦК (01.10.2026) | B123: =CONCATENATE(F112,"*",F113,"*",F114,"*",F115,"*",F116,"*",F117,"*",F118,"*",F119,"*",F120,"=") -> 1,0072*1,0008*1,017*0,9874*1,0013*1,0088*1,0167*1,0083*1,0083= | F123: =PRODUCT(F112:F120) -> 1.0569

Sheet Прогнозные индексы
A44: Расчет индексов прогнозной инфляции на период выполнения работ:
A46: 1. Разработка рабочей документации
A48: Дата формирования НМЦК | F48: 46296 | N48: 46387 | O48: конец текущего года
A49: Продолжительность выполнения работ, мес. | F49: =ROUNDUP((F51-F50)/30.5,1) -> 4.6
A50: Начало работ | F50: =График!$F$13 -> 46397 | N50: 46388 | O50: начало следующего года
A51: Окончание работ | F51: =График!$G$13 -> 46537
A52: Индекс Минэкономразвития РФ на 2026 г. (Письмо Минэкономразвития России от 30.09.2026 № 36459-ПК/Д03и) | F52: 1.12
A53: ежемесячный прогнозный индекс на 2026 год | D53: =F52 -> 1.12 | E53: ^(1/12) | F53: =F52^(1/12) -> 1.0095
A54: Индекс Минэкономразвития РФ на 2027 г. (Письмо Минэкономразвития России от 30.09.2026 № 36459-ПК/Д03и) | F54: 1.09
A55: ежемесячный прогнозный индекс на 2027 год | D55: =F54 -> 1.09 | E55: ^(1/12) | F55: =F54^(1/12) -> 1.0072
A56: Индекс прогнозной инфляции | B56: =CONCATENATE(F53,"^",ROUNDUP((N48-F48)/30.5,1),"*",F55,"^",ROUNDUP((F50-N50)/30.5,1),"*((",F55,"^",ROUNDUP((F51-F50)/30.5,1),"-1)/2+1)") -> 1,0095^3*1,0072^0,3*((1,0072^4,6-1)/2+1) | F56: =F53^ROUNDUP((N48-F48)/30.5,1)*F55^ROUNDUP((F50-N50)/30.5,1)*((F55^ROUNDUP((F51-F50)/30.5,1)-1)/2+1) -> 1.0483
A58: 2. Строительство
A60: Дата формирования НМЦК | F60: 46296 | N60: 46387 | O60: окончание первого года
A61: Начало работ | F61: =График!$F$15 -> 46508 | N61: 46752 | O61: окончание второго года
A62: Окончание работ | F62: =График!$G$18 -> 47056 | N62: 46753 | O62: начало третьего года
A63: Продолжительность выполнения работ, мес. | F63: =(F62-F61)/30.5 -> 18
A64: Доля сметной стоимости, подлежащая выполнению подрядчиком в 2027 году | F64: =(N61-F61)/30.5/F63 -> 0.44
A65: Доля сметной стоимости, подлежащая выполнению подрядчиком в 2028 году | F65: =1-F64 -> 0.56
A66: Индекс Минэкономразвития РФ на 2026 г. (Письмо Минэкономразвития России от 30.09.2026 № 36459-ПК/Д03и) | F66: 1.12
A67: ежемесячный прогнозный индекс на 2026 год | D67: =F66 -> 1.12 | E67: ^(1/12) | F67: =F66^(1/12) -> 1.0095
A68: Индекс Минэкономразвития РФ на 2027 г. (Письмо Минэкономразвития России от 30.09.2026 № 36459-ПК/Д03и) | F68: 1.09
A69: ежемесячный прогнозный индекс на 2027 год | D69: =F68 -> 1.09 | E69: ^(1/12) | F69: =F68^(1/12) -> 1.0072
A70: Индекс Минэкономразвития РФ на 2028 г. (Письмо Минэкономразвития России от 30.09.2026 № 36459-ПК/Д03и) | F70: 1.046
A71: ежемесячный прогнозный индекс на 2028 год | D71: =F70 -> 1.046 | E71: ^(1/12) | F71: =F70^(1/12) -> 1.0038
A72: К на 2027 = | B72: =CONCATENATE(F67,"^",ROUND((N60-F60)/30.5,1),"*",F69,"^",ROUND((F61-N60)/30.5,1),"*(1+",F69,"^",ROUNDUP((N61-F61)/30.5,1),")/2") -> 1,0095^3*1,0072^4*(1+1,0072^8)/2 | F72: =F67^ROUND((N60-F60)/30.5,1)*F69^ROUND((F61-N60)/30.5,1)*(1+F69^ROUNDUP((N61-F61)/30.5,1))/2 -> 1.09
A73: К на 2028 = | B73: =CONCATENATE(F67,"^",ROUND((N60-F60)/30.5,1),"*",F69,"^12*(1+",F71,"^",ROUNDUP((F62-N62)/30.5,1),")/2") -> 1,0095^3*1,0072^12*(1+1,0038^10)/2 | F73: =F67^ROUND((N60-F60)/30.5,1)*F69^12*(1+F71^ROUNDUP((F62-N62)/30.5,1))/2 -> 1.1429
A74: Индекс прогнозной инфляции | B74: =CONCATENATE(F64,"*",F72,"+",F65,"*",F73) -> 0,44*1,09+0,56*1,1429 | F74: =F64*F72+F65*F73 -> 1.1196

Sheet ССРСС
H1: Приложение № 6
H2: Утверждено приказом № 421 от 4 августа 2020 г. Минстроя РФ в редакции приказа № 557 от 7 июля 2022 г.
B4: Заказчик | C4: АО "КАВКАЗ.РФ" | I4: АО "КАВКАЗ.РФ"
C5: (наименование организации)
B6: "Утвержден" "___"______________________2026г
B8: Сводный сметный расчет сметной стоимостью 3 907 776,33 тыс. руб.
C10: (ссылка на документ об утверждении)
B12: СВОДНЫЙ СМЕТНЫЙ РАСЧЕТ СТОИМОСТИ СТРОИТЕЛЬСТВА № ССРСС-1
B16: Выполнение проектно-изыскательских работ на реконструкцию снегоудерживающих сооружений ВТРК «Эльбрус». Этап 1 | N16: Выполнение проектно-изыскательских работ на реконструкцию снегоудерживающих сооружений ВТРК «Эльбрус». Этап 1
B17: (наименование стройки)
B19: Составлен в текущем уровне цен IV квартал 2025 года | T19: Составлен в текущем уровне цен IV квартал 2025 года
A21: № п/п | B21: Обоснование | C21: Наименование глав, объектов капитального строительства, работ и затрат | D21: Сметная стоимость, тыс. руб.
D22: Строительных (ремонтно- строительных, ремонтно-реставрационных) работ | E22: монтажных работ | F22: оборудования | G22: прочих затрат | H22: всего
A24: 1 | B24: 2 | C24: 3 | D24: 4 | E24: 5 | F24: 6 | G24: 7 | H24: 8
A25: Глава 1. Подготовка территории строительства, реконструкции, капитального ремонта | AA25: Глава 1. Подготовка территории строительства, реконструкции, капитального ремонта
A26: 1 | B26: Приложение №3 к ДС от 13.09.2023 года к Договору от 14.09.2021 года | C26: Затраты на отвод земельного участка на период строительства: аренда | G26: 2.1 | H26: =SUM(D26:G26) -> 2.1
A27: 2 | B27: Соглашение об установлении срочного сервитута С-246-МХ1937 от 13.11.2025 года | C27: Затраты на отвод земельного участка на период строительства: сервитут | G27: 136.96 | H27: =SUM(D27:G27) -> 136.96
A28: 3 | B28: Смета №1 | C28: Затраты по разбивке основных осей | G28: 1883.71 | H28: =SUM(D28:G28) -> 1883.71
A29: 4 | B29: ЛСР-01-01-01 | C29: Демонтажные работы | D29: 17225.57 | H29: =SUM(D29:G29) -> 17225.57
A30: 5 | B30: ЛСР-01-02-01 | C30: Рекультивация временных дорог и разворотных площадок ведущих к территории участка реконструкции снегоудерживающих сооружений | D30: 11.62 | H30: =SUM(D30:G30) -> 11.62
B31: Итого по Главе 1. "Подготовка территории строительства, реконструкции, капитального ремонта" | D31: =SUM(D26:D30) -> 17237.19 | G31: =SUM(G26:G30) -> 2022.77 | H31: =SUM(D31:G31) -> 19259.96 | AB31: Итого по Главе 1. "Подготовка территории строительства, реконструкции, капитального ремонта"
A32: Глава 2. Основные объекты строительства, реконструкции, капитального ремонта | AA32: Глава 2. Основные объекты строительства, реконструкции, капитального ремонта
A33: 6 | B33: ЛСР-02-01-01 | C33: Инженерная защита территории. Снегоудерживающие барьеры. Этап 1. | D33: 2588356.1 | H33: =SUM(D33:G33) -> 2588356.1
B34: Итого по Главе 2. "Основные объекты строительства, реконструкции, капитального ремонта" | D34: =SUM(D33) -> 2588356.1 | H34: =SUM(D34:G34) -> 2588356.1 | AB34: Итого по Главе 2. "Основные объекты строительства, реконструкции, капитального ремонта"
A35: Глава 7. Благоустройство и озеленение территории | AA35: Глава 7. Благоустройство и озеленение территории
B36: Итого по Главам 1-7 | D36: =D31+D34 -> 2605593.3 | G36: =G31+G34 -> 2022.77 | H36: =SUM(D36:G36) -> 2607616.1 | AC36: Итого по Главам 1-7
A37: Глава 8. Временные здания и сооружения | AA37: Глава 8. Временные здания и сооружения
